BEGIN:VCALENDAR
PRODID:NingEventWidget-v1
VERSION:2.0
METHOD:PUBLISH
BEGIN:VTIMEZONE
TZID:Europe/Paris
X-LIC-LOCATION:Europe/Paris
BEGIN:DAYLIGHT
TZOFFSETFROM:+0100
TZOFFSETTO:+0200
TZNAME:CEST
DTSTART:19700329T020000
RRULE:FREQ=YEARLY;BYMONTH=3;BYDAY=-1SU
END:DAYLIGHT
BEGIN:STANDARD
TZOFFSETFROM:+0200
TZOFFSETTO:+0100
TZNAME:CET
DTSTART:19701025T030000
RRULE:FREQ=YEARLY;BYMONTH=10;BYDAY=-1SU
END:STANDARD
END:VTIMEZONE
BEGIN:VEVENT
UID:2485226:Event:2469190
DTSTAMP:20260421T094952Z
SUMMARY:ConfÃ©rence, Atelier dÃ©couverte des Ã©lixirs de cropcircles
DESCRIPTION:Les cropcircles apparaissent chaque annÃ©e dans des champs
  de blÃ©...Que veulent dire ces messages ?  Quelles sont les caractÃ©r
 istiques des cropcircles ? Nous aborderons l'aspect spirituel du phÃ©n
 omÃ¨ne.\nLes Ã©lixirs de cropcircles, crÃ©Ã© par Andreas Korte, contie
 nnent l'information exacte du cropcircle concernÃ©. GrÃ¢ce Ã  ses effe
 ts multidimensionnels les Ã©lixirs de cropcircle des possibilitÃ©s thÃ
 ©rapeutiques entiÃ¨rement nouvelles sont offertes afin d'aider les Ãªt
 res humains. L'origine du problÃ¨me est traitÃ© Ã  un niveau diffÃ©ren
 t afin de soutenir les processus d'autoguÃ©rison.\n\nPour plus d'infor
 mation, aller sur https://epanews.fr/events/conf-rence-atelier-d-couve
 rte-des-lixirs-de-cropcircles
DTSTART;TZID=Europe/Paris:20151203T193000
DTEND;TZID=Europe/Paris:20151203T210000
CATEGORIES:83
LOCATION:Le Liber'thÃ© (toulon)
WEBSITE:https://goo.gl/maps/RFpZerkUmBE2
URL:https://goo.gl/maps/RFpZerkUmBE2
CONTACT:0681354253
ORGANIZER;CN="VÃ©ronique Jaques":https://epanews.fr/profile/VeroniqueJ
 aques364
ATTACH;FMTTYPE="image/jpeg":http://storage.ning.com/topology/rest/1.0/
 file/get/1663480484?profile=original
ATTENDEE;ROLE=REQ-PARTICIPANT;PARTSTAT=ACCEPTED;RSVP=TRUE;CN="VÃ©roniq
 ue Jaques":https://epanews.fr/profile/VeroniqueJaques364
END:VEVENT
END:VCALENDAR
