BEGIN:VCALENDAR
PRODID:NingEventWidget-v1
VERSION:2.0
METHOD:PUBLISH
BEGIN:VTIMEZONE
TZID:Europe/Paris
X-LIC-LOCATION:Europe/Paris
BEGIN:DAYLIGHT
TZOFFSETFROM:+0100
TZOFFSETTO:+0200
TZNAME:CEST
DTSTART:19700329T020000
RRULE:FREQ=YEARLY;BYMONTH=3;BYDAY=-1SU
END:DAYLIGHT
BEGIN:STANDARD
TZOFFSETFROM:+0200
TZOFFSETTO:+0100
TZNAME:CET
DTSTART:19701025T030000
RRULE:FREQ=YEARLY;BYMONTH=10;BYDAY=-1SU
END:STANDARD
END:VTIMEZONE
BEGIN:VEVENT
UID:2485226:Event:720345
DTSTAMP:20260423T165222Z
SUMMARY:Conférence-Atelier: Choisir et Vitaliser son Eau
DESCRIPTION:          Tout ce que vous devez savoir sur l'Eau\nAp
 prendre à mesurer la vitalité de l'Eau et à la Revitaliser\nProgram
 me et infos pratiques:\nhttp://www.la-maison-du-ressourcement.com/inde
 x.php/ateliers\n\nPour plus d'information, aller sur https://epanews.f
 r/events/conf-rence-atelier-choisir-et-vitaliser-son-eau-1
DTSTART;TZID=Europe/Paris:20120329T200000
DTEND;TZID=Europe/Paris:20120329T220000
CATEGORIES:92
LOCATION:Neuilly sur Seine
WEBSITE:http://www.la-maison-du-ressourcement.com/index.php/ateliers
URL:http://www.la-maison-du-ressourcement.com/index.php/ateliers
CONTACT:06 82 18 07 06
ORGANIZER;CN=Sylvain:https://epanews.fr/profile/Sylvain
ATTACH;FMTTYPE="image/jpeg":http://storage.ning.com/topology/rest/1.0/
 file/get/1662569587?profile=original
ATTENDEE;ROLE=REQ-PARTICIPANT;PARTSTAT=ACCEPTED;RSVP=TRUE;CN=Sylvain:h
 ttps://epanews.fr/profile/Sylvain
END:VEVENT
END:VCALENDAR
