BEGIN:VCALENDAR
PRODID:NingEventWidget-v1
VERSION:2.0
METHOD:PUBLISH
BEGIN:VTIMEZONE
TZID:Europe/Paris
X-LIC-LOCATION:Europe/Paris
BEGIN:DAYLIGHT
TZOFFSETFROM:+0100
TZOFFSETTO:+0200
TZNAME:CEST
DTSTART:19700329T020000
RRULE:FREQ=YEARLY;BYMONTH=3;BYDAY=-1SU
END:DAYLIGHT
BEGIN:STANDARD
TZOFFSETFROM:+0200
TZOFFSETTO:+0100
TZNAME:CET
DTSTART:19701025T030000
RRULE:FREQ=YEARLY;BYMONTH=10;BYDAY=-1SU
END:STANDARD
END:VTIMEZONE
BEGIN:VEVENT
UID:2485226:Event:706095
DTSTAMP:20260422T203938Z
SUMMARY:conférence atelier - Apprendre à régénérer l'eau pour se 
 régénérer
DESCRIPTION:L’eau fait partie des 4 éléments, et à ce titre, peut
 -être un outil d’approche fondamental pour appréhender le fonction
 nement de tout principe vivant.\nToute observation scientifique dans l
 a matière physique, en lien avec l’eau, peut-être un tremplin vers
  la compréhension et l’intégration de la manifestation d’une ré
 alité égale à des niveaux quantiques ou subtiles. A ces niveaux, le
  chercheur ne disposant pas d’outils scientifiques matériel devra p
 asser par l’utilisation des ses sens. Toucher avec son mental ces co
 ncepts marquant des ponts entre physique et énergétique ouvre les po
 rtes de perceptions affinées en résonance avec l’évolution de nos
  sociétés. La guérison étant un acte de reconnexion avec sa nature
  profonde, l’eau un outil pour y parvenir.\nQuelle eau bois-je, quel
  en est son reflet ?\n\nPour plus d'information, aller sur https://ep
 anews.fr/events/conf-rence-atelier-apprendre-r-g-n-rer-l-eau-pour-se-r
 -g-n-rer-2
DTSTART;TZID=Europe/Paris:20120315T200000
DTEND;TZID=Europe/Paris:20120315T213000
CATEGORIES:06
LOCATION:Nice
WEBSITE:http://www.forumbienetre.fr/index.php?option=com_content&view=
 article&id=595:leau-miroir-des-4-elements-lequilibre-du-corps-apprendr
 e-a-regenerer-leau-pour-se-regenerer&catid=13:conferences&Itemid=28
URL:http://www.forumbienetre.fr/index.php?option=com_content&view=arti
 cle&id=595:leau-miroir-des-4-elements-lequilibre-du-corps-apprendre-a-
 regenerer-leau-pour-se-regenerer&catid=13:conferences&Itemid=28
CONTACT:06 676 553 60
ORGANIZER:Forum du Bien être
ATTACH;FMTTYPE="image/jpeg":http://storage.ning.com/topology/rest/1.0/
 file/get/1662559480?profile=original
ATTENDEE;ROLE=REQ-PARTICIPANT;PARTSTAT=ACCEPTED;RSVP=TRUE;CN="Loïc Sa
 llet":https://epanews.fr/profile/LoicSallet
END:VEVENT
END:VCALENDAR
