BEGIN:VCALENDAR
PRODID:NingEventWidget-v1
VERSION:2.0
METHOD:PUBLISH
BEGIN:VTIMEZONE
TZID:Europe/Paris
X-LIC-LOCATION:Europe/Paris
BEGIN:DAYLIGHT
TZOFFSETFROM:+0100
TZOFFSETTO:+0200
TZNAME:CEST
DTSTART:19700329T020000
RRULE:FREQ=YEARLY;BYMONTH=3;BYDAY=-1SU
END:DAYLIGHT
BEGIN:STANDARD
TZOFFSETFROM:+0200
TZOFFSETTO:+0100
TZNAME:CET
DTSTART:19701025T030000
RRULE:FREQ=YEARLY;BYMONTH=10;BYDAY=-1SU
END:STANDARD
END:VTIMEZONE
BEGIN:VEVENT
UID:2485226:Event:1874544
DTSTAMP:20260422T051419Z
SUMMARY:Conférence-Atelier animée par Nabila Ighit
DESCRIPTION:\n\nPour plus d'information, aller sur https://epanews.fr/
 events/conf-rence-atelier-anim-e-par-nabila-ighit
DTSTART;TZID=Europe/Paris:20140425T193000
DTEND;TZID=Europe/Paris:20140425T213000
CATEGORIES:69
LOCATION:Lyon
WEBSITE:http://www.lamanadamelsa.fr/intervenants/nabila-ighit/nabila-i
 ghit.html
URL:http://www.lamanadamelsa.fr/intervenants/nabila-ighit/nabila-ighit
 .html
CONTACT:0609528942 ou 0642369528
ORGANIZER:Nabila Ighit
ATTACH;FMTTYPE="image/jpeg":http://storage.ning.com/topology/rest/1.0/
 file/get/1663111840?profile=original
ATTENDEE;ROLE=REQ-PARTICIPANT;PARTSTAT=ACCEPTED;RSVP=TRUE;CN="Pier Bru
 ch":https://epanews.fr/profile/ReCoNaissanceparletoucher
END:VEVENT
END:VCALENDAR
