BEGIN:VCALENDAR
PRODID:NingEventWidget-v1
VERSION:2.0
METHOD:PUBLISH
BEGIN:VTIMEZONE
TZID:Europe/Paris
X-LIC-LOCATION:Europe/Paris
BEGIN:DAYLIGHT
TZOFFSETFROM:+0100
TZOFFSETTO:+0200
TZNAME:CEST
DTSTART:19700329T020000
RRULE:FREQ=YEARLY;BYMONTH=3;BYDAY=-1SU
END:DAYLIGHT
BEGIN:STANDARD
TZOFFSETFROM:+0200
TZOFFSETTO:+0100
TZNAME:CET
DTSTART:19701025T030000
RRULE:FREQ=YEARLY;BYMONTH=10;BYDAY=-1SU
END:STANDARD
END:VTIMEZONE
BEGIN:VEVENT
UID:2485226:Event:972089
DTSTAMP:20260424T215430Z
SUMMARY:Conférence astro psychologie et décodage biologique
DESCRIPTION:Conférence Astrologie, Psycho Généalogie & Décodage Bi
 ologique\nMonsieur Jean François Berry est astrologue professionnel d
 epuis 1980, enseignant, consultant, conférencier. Il anime des stages
  en France et à l’étranger pour notamment enseigner la pratique de
  l’astrologie humaniste, qui est une voie initiatique. Jean Franço
 is se passionne depuis plusieurs années pour le rapport entre le thè
 me astral et le transgénérationnel, il s'est formé à l'analyse ps
 ychosomatique, au décodage biologique auprès de Salomon Sellam qui l
 'a intégré comme formateur dans son école. Il nous propose une réf
 lexion sur l’astrologie humaniste, le lien entre le corps physique,
  le corps énergétique, le langage et nous amène à poser un autre 
 regard sur le sens de nos conflits. Et enfin, son best seller « Le c
 hant de la Résonnance\nConférence\nLe Temps des Titans ou la Naissan
 ce d'une Nouvelle Lumière !\nNous sommes entrés dans le carré Uranu
 s- pluton – 2 « TITANS » symboliques de l’immense mutation pla
 nétaire qui s’opère en nous et dans le monde.\n\nComment participe
 r le plus pleinement possible à cette crise de transformation en fonc
 tion de notre thème natal et des cycles planétaires ?\nComment cont
 acter l’avènement d’une nouvelle conscience en saisissant les opp
 ortunités d’une profonde libération de vieilles mémoires ?\n\n 
 \nJeudi 25 octobre 2012 – A 18h30 à 21h\nParticipation : 15 Є\n 
 \nRéservation & Renseignements :\n06.60.47.54.41 nadget06@gmail.com
 \n\nPour plus d'information, aller sur https://epanews.fr/events/conf-
 rence-astrologie-psycho-g-n-alogie-d-codage-biologique-jean
DTSTART;TZID=Europe/Paris:20121025T183000
DTEND;TZID=Europe/Paris:20121025T210000
CATEGORIES:06
LOCATION:Maison des Associations de Saint Roch
WEBSITE:http://associationmaat.blogspot.fr
URL:http://associationmaat.blogspot.fr
CONTACT:06 60 47 54 41
ORGANIZER;CN=Nadget:https://epanews.fr/profile/RenauxSalmonNadege
ATTACH;FMTTYPE="image/jpeg":http://storage.ning.com/topology/rest/1.0/
 file/get/1662679866?profile=original
ATTENDEE;ROLE=REQ-PARTICIPANT;PARTSTAT=ACCEPTED;RSVP=TRUE;CN=Nadget:ht
 tps://epanews.fr/profile/RenauxSalmonNadege
END:VEVENT
END:VCALENDAR
