BEGIN:VCALENDAR
PRODID:NingEventWidget-v1
VERSION:2.0
METHOD:PUBLISH
BEGIN:VTIMEZONE
TZID:Europe/Paris
X-LIC-LOCATION:Europe/Paris
BEGIN:DAYLIGHT
TZOFFSETFROM:+0100
TZOFFSETTO:+0200
TZNAME:CEST
DTSTART:19700329T020000
RRULE:FREQ=YEARLY;BYMONTH=3;BYDAY=-1SU
END:DAYLIGHT
BEGIN:STANDARD
TZOFFSETFROM:+0200
TZOFFSETTO:+0100
TZNAME:CET
DTSTART:19701025T030000
RRULE:FREQ=YEARLY;BYMONTH=10;BYDAY=-1SU
END:STANDARD
END:VTIMEZONE
BEGIN:VEVENT
UID:2485226:Event:2279132
DTSTAMP:20260422T165448Z
SUMMARY:conférence: Apprentissage chez l'enfant et interaction famili
 ale
DESCRIPTION:Dysphasie, dyslexie, dyscalculie, problèmes de lecture ou
  d’écriture... Regarder les « Difficultés d’apprentissage » de
  façon plus Globale pour aider au mieux l’enfant et son entourage..
 .\nBien souvent, une difficulté d'apprentissage est bien plus qu'un s
 imple \"symptôme\" chez l'enfant et peut révéler un mal être bien 
 plus grand de lui même et ou de la famille!!!\ncentre Maluco, Av de M
 ersch,108 à Arlon (Belgique) Jeudi 2 avril de 20 à 22h30 (accueil 19
 h45)\nPAF : 10€\nRenseignements et inscription :\nNathalie Zorn, pro
 fessionnelle du langage, Sophrologue Carine Thibert, coaching thérape
 utique \n0496/28.85.01 - 0478/53.47.83\n\nPour plus d'information, all
 er sur https://epanews.fr/events/conf-rence-apprentissage-chez-l-enfan
 t-et-interaction-familiale
DTSTART;TZID=Europe/Paris:20150402T194500
DTEND;TZID=Europe/Paris:20150402T223000
CATEGORIES:belgique
LOCATION:Centre Maluco
WEBSITE:http://www.centremaluco.org
URL:http://www.centremaluco.org
CONTACT:0478/53.47.83
ORGANIZER;CN=Sourialavie:https://epanews.fr/profile/Sourialavie
ATTACH;FMTTYPE="image/jpeg":http://storage.ning.com/topology/rest/1.0/
 file/get/1663364395?profile=original
ATTENDEE;ROLE=REQ-PARTICIPANT;PARTSTAT=ACCEPTED;RSVP=TRUE;CN=Sourialav
 ie:https://epanews.fr/profile/Sourialavie
END:VEVENT
END:VCALENDAR
