BEGIN:VCALENDAR
PRODID:NingEventWidget-v1
VERSION:2.0
METHOD:PUBLISH
BEGIN:VTIMEZONE
TZID:Europe/Paris
X-LIC-LOCATION:Europe/Paris
BEGIN:DAYLIGHT
TZOFFSETFROM:+0100
TZOFFSETTO:+0200
TZNAME:CEST
DTSTART:19700329T020000
RRULE:FREQ=YEARLY;BYMONTH=3;BYDAY=-1SU
END:DAYLIGHT
BEGIN:STANDARD
TZOFFSETFROM:+0200
TZOFFSETTO:+0100
TZNAME:CET
DTSTART:19701025T030000
RRULE:FREQ=YEARLY;BYMONTH=10;BYDAY=-1SU
END:STANDARD
END:VTIMEZONE
BEGIN:VEVENT
UID:2485226:Event:968912
DTSTAMP:20260420T185407Z
SUMMARY:Conférence Accors Toltèques
DESCRIPTION:Conférence d'Olivier Clerc\n\"Les Accords Toltèques : le
  Don du Pardon\"\n \nLa sagesse toltèque transmise par Don Miguel Ru
 iz permet de libérer à la fois notre tête et notre cœur des schém
 as de comportement qui nous rendent malheureux, pour vivre une vie plu
 s épanouissante et plus libre.\n \nLes Quatre Accords Toltèques et 
 le 5e Accord Toltèque, nous apprennent à nous libérer des suppositi
 ons et des projections qu’élabore notre mental, et des réactions q
 u’elles nous inspirent, qui empoisonnent notre vie.\n \nAvec le Don
  du Pardon, un rituel simple et puissant de guérison du cœur, transm
 is à Olivier Clerc par Don Miguel Ruiz au Mexique, nous pouvons retro
 uver notre pleine et entière liberté d’aimer. L’amour peut alor
 s à nouveau s’échanger à travers nous sans entrave.\n \nOlivier 
 Clerc se passionne depuis 30 ans pour le développement de la conscien
 ce. Il est l’auteur de 8 livres, dont le best-seller international :
 \n« La grenouille qui ne savait pas qu’elle était cuite ».\nDé
 couvrez comment avoir une tête neuve et un cœur nouveau pour vivre l
 a vie nouvelle à laquelle nous aspirons !\n \nPrix : 10 euros\n \nV
 ente des billets : Espace SYMBOLESCENCE 32 rue du Plat - 69002 LYON 0
 9 81 80 87 27 - http://www.symbolescence.fr/\nou par internet : Symbol
 escence - Conf. Olivier Clerc\n \nRéservation conseillée\n\nPour pl
 us d'information, aller sur https://epanews.fr/events/conf-rence-accor
 s-tolt-ques
DTSTART;TZID=Europe/Paris:20121122T200000
DTEND;TZID=Europe/Paris:20121122T223000
CATEGORIES:69
LOCATION:lyon
WEBSITE:http://www.symbolescence.fr/evenements/conferences/article/les
 -4-accords-tolteques
URL:http://www.symbolescence.fr/evenements/conferences/article/les-4-a
 ccords-tolteques
CONTACT:09 81 80 87 27
ORGANIZER;CN=Clémence:https://epanews.fr/profile/Clemence
ATTACH;FMTTYPE="image/jpeg":http://storage.ning.com/topology/rest/1.0/
 file/get/1662678922?profile=original
ATTENDEE;ROLE=REQ-PARTICIPANT;PARTSTAT=ACCEPTED;RSVP=TRUE;CN=Clémence
 :https://epanews.fr/profile/Clemence
END:VEVENT
END:VCALENDAR
