BEGIN:VCALENDAR
PRODID:NingEventWidget-v1
VERSION:2.0
METHOD:PUBLISH
BEGIN:VTIMEZONE
TZID:Europe/Paris
X-LIC-LOCATION:Europe/Paris
BEGIN:DAYLIGHT
TZOFFSETFROM:+0100
TZOFFSETTO:+0200
TZNAME:CEST
DTSTART:19700329T020000
RRULE:FREQ=YEARLY;BYMONTH=3;BYDAY=-1SU
END:DAYLIGHT
BEGIN:STANDARD
TZOFFSETFROM:+0200
TZOFFSETTO:+0100
TZNAME:CET
DTSTART:19701025T030000
RRULE:FREQ=YEARLY;BYMONTH=10;BYDAY=-1SU
END:STANDARD
END:VTIMEZONE
BEGIN:VEVENT
UID:2485226:Event:2453079
DTSTAMP:20260420T071218Z
SUMMARY:conférence
DESCRIPTION:Conférence « PARTAGE DANS L’ESPACE DU COEUR » le 1
 1 novembre à Bruxelles  http://eveilspirituel.net/activites-display.
 asp?i=152\n\nPour plus d'information, aller sur https://epanews.fr/eve
 nts/conf-rence-22
DTSTART;TZID=Europe/Paris:20151111T200000
DTEND;TZID=Europe/Paris:20151111T223000
CATEGORIES:belgique
LOCATION:1200 Bruxelles
WEBSITE:http://eveilspirituel.net/activites-display.asp?i=152
URL:http://eveilspirituel.net/activites-display.asp?i=152
CONTACT:0032497865296
ORGANIZER;CN=luriama:https://epanews.fr/profile/luriama
ATTACH;FMTTYPE="image/jpeg":http://storage.ning.com/topology/rest/1.0/
 file/get/1663468701?profile=original
ATTENDEE;ROLE=REQ-PARTICIPANT;PARTSTAT=ACCEPTED;RSVP=TRUE;CN=luriama:h
 ttps://epanews.fr/profile/luriama
END:VEVENT
END:VCALENDAR
