BEGIN:VCALENDAR
PRODID:NingEventWidget-v1
VERSION:2.0
METHOD:PUBLISH
BEGIN:VTIMEZONE
TZID:Europe/Paris
X-LIC-LOCATION:Europe/Paris
BEGIN:DAYLIGHT
TZOFFSETFROM:+0100
TZOFFSETTO:+0200
TZNAME:CEST
DTSTART:19700329T020000
RRULE:FREQ=YEARLY;BYMONTH=3;BYDAY=-1SU
END:DAYLIGHT
BEGIN:STANDARD
TZOFFSETFROM:+0200
TZOFFSETTO:+0100
TZNAME:CET
DTSTART:19701025T030000
RRULE:FREQ=YEARLY;BYMONTH=10;BYDAY=-1SU
END:STANDARD
END:VTIMEZONE
BEGIN:VEVENT
UID:2485226:Event:1896874
DTSTAMP:20260421T202029Z
SUMMARY:conférence
DESCRIPTION:Eric Darche seras au Clos du Bien Etre le vendredi 16 Mai 
 pour une conférence sur la Nutrition , place limitée , veuillez pend
 re contact pour votre réservation avant le 13 Mai\n\nPour plus d'info
 rmation, aller sur https://epanews.fr/events/conf-rence-20
DTSTART;TZID=Europe/Paris:20140516T190000
DTEND;TZID=Europe/Paris:20140516T210000
CATEGORIES:13
LOCATION:Aix-en-Provence
WEBSITE:
URL:
CONTACT:0619562189
ORGANIZER;CN="Josiane de Rougemont":https://epanews.fr/profile/LECLOSD
 UBIENETRE
ATTACH;FMTTYPE="image/jpeg":http://storage.ning.com/topology/rest/1.0/
 file/get/1663127932?profile=original
ATTENDEE;ROLE=REQ-PARTICIPANT;PARTSTAT=ACCEPTED;RSVP=TRUE;CN="Josiane 
 de Rougemont":https://epanews.fr/profile/LECLOSDUBIENETRE
END:VEVENT
END:VCALENDAR
