BEGIN:VCALENDAR
PRODID:NingEventWidget-v1
VERSION:2.0
METHOD:PUBLISH
BEGIN:VTIMEZONE
TZID:Europe/Paris
X-LIC-LOCATION:Europe/Paris
BEGIN:DAYLIGHT
TZOFFSETFROM:+0100
TZOFFSETTO:+0200
TZNAME:CEST
DTSTART:19700329T020000
RRULE:FREQ=YEARLY;BYMONTH=3;BYDAY=-1SU
END:DAYLIGHT
BEGIN:STANDARD
TZOFFSETFROM:+0200
TZOFFSETTO:+0100
TZNAME:CET
DTSTART:19701025T030000
RRULE:FREQ=YEARLY;BYMONTH=10;BYDAY=-1SU
END:STANDARD
END:VTIMEZONE
BEGIN:VEVENT
UID:2485226:Event:1810740
DTSTAMP:20260420T210746Z
SUMMARY:ConfÃ©rence
DESCRIPTION:***A NE PAS MANQUER***ConfÃ©rence donnÃ©e par Claude Traub
 e, thÃ©rapeute.Traumatismes, Ã©motions envahissantes : des approches Ã
 ©tonnantes et libÃ©ratricesEMDR (dÃ©sensibilisation par le mouvement d
 es yeux), Faster EFT (technique de libÃ©ration des Ã©motions dans une 
 nouvelle Ã©volution due Ã  Robert G. Smith) et d'autres approches nous
  permettent d'aider efficacement et sans trop de souffrance les victim
 es de traumatismes ou les personnes qui ont du mal Ã  gÃ©rer des Ã©mot
 ions qui les empÃªchent de vivre en paix. Cela confirme que nous avons
  tous en nous les ressources pour faire face Ã  nos souffrances grÃ¢ce
  Ã  notre cerveau et Ã  notre corps qui peut laisser partir les Ã©moti
 ons.Venez nombreux, cette confÃ©rence promet d'Ãªtre passionnante !\nh
 ttp://www.mednatexpo.ch/\n\nPour plus d'information, aller sur https:/
 /epanews.fr/events/conf-rence-15
DTSTART;TZID=Europe/Paris:20140329T123000
DTEND;TZID=Europe/Paris:20140329T133000
CATEGORIES:"."
LOCATION:Mednat, Lausanne, Halle 2, Salle Carton
WEBSITE:
URL:
CONTACT:
ORGANIZER;CN="StÃ©phanie Bartolini":https://epanews.fr/profile/Stephan
 ieBartolini
ATTACH;FMTTYPE="image/jpeg":http://storage.ning.com/topology/rest/1.0/
 file/get/1663077140?profile=original
ATTENDEE;ROLE=REQ-PARTICIPANT;PARTSTAT=ACCEPTED;RSVP=TRUE;CN="StÃ©phan
 ie Bartolini":https://epanews.fr/profile/StephanieBartolini
END:VEVENT
END:VCALENDAR
