BEGIN:VCALENDAR
PRODID:NingEventWidget-v1
VERSION:2.0
METHOD:PUBLISH
BEGIN:VTIMEZONE
TZID:Europe/Paris
X-LIC-LOCATION:Europe/Paris
BEGIN:DAYLIGHT
TZOFFSETFROM:+0100
TZOFFSETTO:+0200
TZNAME:CEST
DTSTART:19700329T020000
RRULE:FREQ=YEARLY;BYMONTH=3;BYDAY=-1SU
END:DAYLIGHT
BEGIN:STANDARD
TZOFFSETFROM:+0200
TZOFFSETTO:+0100
TZNAME:CET
DTSTART:19701025T030000
RRULE:FREQ=YEARLY;BYMONTH=10;BYDAY=-1SU
END:STANDARD
END:VTIMEZONE
BEGIN:VEVENT
UID:2485226:Event:519208
DTSTAMP:20260422T205012Z
SUMMARY:Conférence
DESCRIPTION:L’Anti Bouddha\néloges de la souffrance et du bonheur !
 !!\nQuel chemin pour l'Eveil ?\nVendredi  14 octobre   2011\n20h00\
 nFOYER DE LA JEUNESSE\n12 place d’Armes 83000 Toulon\nPARTICIPATION 
 de 5 €\n\nPour plus d'information, aller sur https://epanews.fr/even
 ts/conf-rence-1
DTSTART;TZID=Europe/Paris:20111014T200000
DTEND;TZID=Europe/Paris:20111014T220000
CATEGORIES:83
LOCATION:Toulon 83
WEBSITE:http://lapprenti-sage.jimdo.com
URL:http://lapprenti-sage.jimdo.com
CONTACT:0619151670
ORGANIZER;CN="Franck et Nadine Sarah Aubert":https://epanews.fr/profil
 e/FranckAUBERT
ATTACH;FMTTYPE="image/jpeg":http://storage.ning.com/topology/rest/1.0/
 file/get/1662457905?profile=original
ATTENDEE;ROLE=REQ-PARTICIPANT;PARTSTAT=ACCEPTED;RSVP=TRUE;CN=Presence:
 https://epanews.fr/profile/Presence
ATTENDEE;ROLE=REQ-PARTICIPANT;PARTSTAT=ACCEPTED;RSVP=TRUE;CN="Franck e
 t Nadine Sarah Aubert":https://epanews.fr/profile/FranckAUBERT
ATTENDEE;ROLE=REQ-PARTICIPANT;PARTSTAT=TENTATIVE;RSVP=TRUE;CN="Mike Fr
 anceschi":https://epanews.fr/profile/MikeFranceschi
END:VEVENT
END:VCALENDAR
