BEGIN:VCALENDAR
PRODID:NingEventWidget-v1
VERSION:2.0
METHOD:PUBLISH
BEGIN:VTIMEZONE
TZID:Europe/Paris
X-LIC-LOCATION:Europe/Paris
BEGIN:DAYLIGHT
TZOFFSETFROM:+0100
TZOFFSETTO:+0200
TZNAME:CEST
DTSTART:19700329T020000
RRULE:FREQ=YEARLY;BYMONTH=3;BYDAY=-1SU
END:DAYLIGHT
BEGIN:STANDARD
TZOFFSETFROM:+0200
TZOFFSETTO:+0100
TZNAME:CET
DTSTART:19701025T030000
RRULE:FREQ=YEARLY;BYMONTH=10;BYDAY=-1SU
END:STANDARD
END:VTIMEZONE
BEGIN:VEVENT
UID:2485226:Event:2114108
DTSTAMP:20260424T014012Z
SUMMARY:Conf : Psycho-Ã©nergÃ©tique, taoÃ¯sme et conscience - PAF libr
 e
DESCRIPTION:Psycho-Ã©nergÃ©tique chinoise, taoÃ¯sme et conscience\n19 
 novembre Ã  20h15 Ã  la salle MÃ©rindol en Avignon  PAF libre\nSimon G
 uillemont, enseignant de taÃ¯ chi chuan, intervenant au sein de la for
 mation Lemniscate Processus, interviendra mercredi 19 novembre Ã  20h1
 5 Ã  la salle mÃ©rindol. Cette soirÃ©e prÃ©sentera une vue gÃ©nÃ©rale 
 des liens existants entre la conscience et le concept du Qi dÃ©veloppÃ
 © dans la pensÃ©e taoÃ¯ste et apportera quelques clefs permettant de r
 etrouver un niveau d'Ã©nergie suffisant pour retrouver un Ã©tat de gra
 nde santÃ©.\nCette confÃ©rence sera suivie par une journÃ©e dimanche 3
 0 novembre Ã  Montpellier, animÃ©e par Lou Yan, ostÃ©opathe et enseign
 ant de taÃ¯ chi chuan depuis 40 ans, fondateur de l'Ã©cole Lemniscate 
 Processus et de la branche ITCCA MÃ©diterranÃ©e\nThÃ¨mes dÃ©veloppÃ©s 
 : â€¢thÃ©orie du yin-yang â€¢psycho-Ã©nergÃ©tique selon les 5 Ã©lÃ©men
 ts â€¢lien entre conscience et niveau d'Ã©nergie â€¢devenir son propre
  thÃ©rapeute : quels outils intÃ©grÃ©s au quotidien pour retrouver un 
 haut niveau d'Ã©nergie? Participation aux frais : libre\nSimon Guillem
 ont 06 62 00 20 73 simon.guillemont@gmail.com\nwww.lemniscate-processu
 s.com\n\n\nPour plus d'information, aller sur https://epanews.fr/event
 s/conf-psycho-nerg-tique-tao-sme-et-conscience-paf-libre
DTSTART;TZID=Europe/Paris:20141119T201500
DTEND;TZID=Europe/Paris:20141119T220000
CATEGORIES:84
LOCATION:AVIGNON
WEBSITE:http://www.lemniscate-processus.com
URL:http://www.lemniscate-processus.com
CONTACT:06 62 00 20 73
ORGANIZER:Lemniscate Processus
ATTACH;FMTTYPE="image/jpeg":http://storage.ning.com/topology/rest/1.0/
 file/get/1663249729?profile=original
ATTENDEE;ROLE=REQ-PARTICIPANT;PARTSTAT=ACCEPTED;RSVP=TRUE;CN="Jardin i
 ntÃ©rieur":https://epanews.fr/profile/LemniscateProcessus
END:VEVENT
END:VCALENDAR
