BEGIN:VCALENDAR
PRODID:NingEventWidget-v1
VERSION:2.0
METHOD:PUBLISH
BEGIN:VTIMEZONE
TZID:Europe/Paris
X-LIC-LOCATION:Europe/Paris
BEGIN:DAYLIGHT
TZOFFSETFROM:+0100
TZOFFSETTO:+0200
TZNAME:CEST
DTSTART:19700329T020000
RRULE:FREQ=YEARLY;BYMONTH=3;BYDAY=-1SU
END:DAYLIGHT
BEGIN:STANDARD
TZOFFSETFROM:+0200
TZOFFSETTO:+0100
TZNAME:CET
DTSTART:19701025T030000
RRULE:FREQ=YEARLY;BYMONTH=10;BYDAY=-1SU
END:STANDARD
END:VTIMEZONE
BEGIN:VEVENT
UID:2485226:Event:577554
DTSTAMP:20260423T012224Z
SUMMARY:conf debat ; comment changer le monde en restant assis dans so
 n fauteuil
DESCRIPTION: \nconference ,debat ,comment changer le monde en restant
  assis dans son fauteuil\n si ce monde ne vous plait pas, que vous asp
 irez a un monde meilleur, mais que vous vous sentez plus ou moins impu
 issant ,cette conference est pour vous .\nchacun de nous avons le pouv
 oir de participer sensiblement au changement pour un monde meilleur to
 ut en restant chez soi , il vous suffit simplement de bien comprendre 
 comment fonctionne une loi physique appelée ''la loi d attraction'' e
 t de l appliquer consciement\npeu de gens connaissent cette loi et pou
 r ceux qui l emploient, beaucoup l utilisent mal et n obtiennent pas l
 es resultats esperés.\npour bien comprendre et appliquer ce processus
 , je vous invite a participer a cette conference\nmerci de prevenir de
  votre venue au 0689604147\nparticipation 5 euros\n \n\nPour plus d'i
 nformation, aller sur https://epanews.fr/events/conf-debat-comment-cha
 nger-le-monde-en-restant-assis-dans-son
DTSTART;TZID=Europe/Paris:20111104T203000
DTEND;TZID=Europe/Paris:20111104T230000
CATEGORIES:31
LOCATION:toulouse
WEBSITE:
URL:
CONTACT:0689604147
ORGANIZER;CN="itier christophe":https://epanews.fr/profile/itierchrist
 ophe
ATTACH;FMTTYPE="image/jpeg":http://storage.ning.com/topology/rest/1.0/
 file/get/1662481022?profile=original
ATTENDEE;ROLE=REQ-PARTICIPANT;PARTSTAT=ACCEPTED;RSVP=TRUE;CN="itier ch
 ristophe":https://epanews.fr/profile/itierchristophe
END:VEVENT
END:VCALENDAR
