BEGIN:VCALENDAR
PRODID:NingEventWidget-v1
VERSION:2.0
METHOD:PUBLISH
BEGIN:VTIMEZONE
TZID:Europe/Paris
X-LIC-LOCATION:Europe/Paris
BEGIN:DAYLIGHT
TZOFFSETFROM:+0100
TZOFFSETTO:+0200
TZNAME:CEST
DTSTART:19700329T020000
RRULE:FREQ=YEARLY;BYMONTH=3;BYDAY=-1SU
END:DAYLIGHT
BEGIN:STANDARD
TZOFFSETFROM:+0200
TZOFFSETTO:+0100
TZNAME:CET
DTSTART:19701025T030000
RRULE:FREQ=YEARLY;BYMONTH=10;BYDAY=-1SU
END:STANDARD
END:VTIMEZONE
BEGIN:VEVENT
UID:2485226:Event:1137366
DTSTAMP:20260421T184309Z
SUMMARY:conf/débat: se libérer de nos conditionnements
DESCRIPTION: Se libérer de nos conditionnements  Sommes nous conditio
 nné, si oui peux t on échapper a nos conditionnements,quels sont t i
 ls, a quoi servent t ils, qui serions nous sans eux, que veux dire êt
 re libre, comment devenir maitre de sa vie? C est de toutes ces questi
 ons que je vous invite a réfléchir et débattre au sein de cette con
 férence /débat.  Participation 5€  Christophe Itier Auteur/ Édite
 ur de contes initiatiques (la révolte des moutons) Conférencier/Form
 ateur Ennéagramme /Coach/ Enseignant dans de nombreuses disciplines s
 ensitives,corporelles et méditatives\n S'inscrire impérativement en
  m envoyant un message ou tel\n \n\nPour plus d'information, aller su
 r https://epanews.fr/events/conf-d-bat-se-lib-rer-de-nos-conditionneme
 nts
DTSTART;TZID=Europe/Paris:20130206T203000
DTEND;TZID=Europe/Paris:20130206T223000
CATEGORIES:31
LOCATION:a la MANE
WEBSITE:
URL:
CONTACT:0689604147
ORGANIZER;CN="itier christophe":https://epanews.fr/profile/itierchrist
 ophe
ATTACH;FMTTYPE="image/jpeg":http://storage.ning.com/topology/rest/1.0/
 file/get/1662745261?profile=original
ATTENDEE;ROLE=REQ-PARTICIPANT;PARTSTAT=ACCEPTED;RSVP=TRUE;CN="itier ch
 ristophe":https://epanews.fr/profile/itierchristophe
END:VEVENT
END:VCALENDAR
