BEGIN:VCALENDAR
PRODID:NingEventWidget-v1
VERSION:2.0
METHOD:PUBLISH
BEGIN:VTIMEZONE
TZID:Europe/Paris
X-LIC-LOCATION:Europe/Paris
BEGIN:DAYLIGHT
TZOFFSETFROM:+0100
TZOFFSETTO:+0200
TZNAME:CEST
DTSTART:19700329T020000
RRULE:FREQ=YEARLY;BYMONTH=3;BYDAY=-1SU
END:DAYLIGHT
BEGIN:STANDARD
TZOFFSETFROM:+0200
TZOFFSETTO:+0100
TZNAME:CET
DTSTART:19701025T030000
RRULE:FREQ=YEARLY;BYMONTH=10;BYDAY=-1SU
END:STANDARD
END:VTIMEZONE
BEGIN:VEVENT
UID:2485226:Event:2996093
DTSTAMP:20260424T101320Z
SUMMARY:concert vibratoire avec une lyre
DESCRIPTION:L’association Lamibonheur vous propose de découvrir la 
 lyre de cristal\net à vivre pleinement cet instant sacré avec Véron
 ique.\n Le chant des orques vous accompagnera pour vivre cette expéri
 ence unique.\nCet atelier sera suivi d’un repas facultatif avec plat
  partagé\n \nLa lyre de cristal procure un vrai soin dans nos cellul
 es et permet de nous déconnecter du mental procurant ainsi un repos t
 otal et un bien être du corps et de l'esprit. Venez vous laisser touc
 her par ce son unique, vous atteindrez un repos profond et ressentirez
  une grande paix intérieure. La lyre de cristal est accordée en 432 
 hertz, la fréquence du cœur.  Elle produit des sons puissants, rés
 onnants, multidimensionnels, voire même omnidirectionnels. Le quartz,
  de part sa nature piézoélectrique et son élasticité mécanique, d
 égage une énergie sonore palpable qui touche intimement l'auditeur.\
 n\nVéronique Jaques\nPraticienne en soins holistiques\n       
                                    
                                    
       Téléphone : 06 81 36 42 53  \n Mail : jaquesveronique@
 gmail.com\n \nprix 6€\n\nPour plus d'information, aller sur https:/
 /epanews.fr/events/concert-vibratoire-avec-une-lyre
DTSTART;TZID=Europe/Paris:20181218T190000
DTEND;TZID=Europe/Paris:20181218T203000
CATEGORIES:83
LOCATION:toulon ouest
WEBSITE:https://www.google.fr/maps/place/20+Rue+de+la+Martinique,+8320
 0+Toulon/@43.1356912,5.9003439,17z/data=!3m1!4b1!4m5!3m4!1s0x12c91b2bb
 7b72859:0x31c4f5c05ef08d52!8m2!3d43.1356912!4d5.9025379?hl=fr
URL:https://www.google.fr/maps/place/20+Rue+de+la+Martinique,+83200+To
 ulon/@43.1356912,5.9003439,17z/data=!3m1!4b1!4m5!3m4!1s0x12c91b2bb7b72
 859:0x31c4f5c05ef08d52!8m2!3d43.1356912!4d5.9025379?hl=fr
CONTACT:0661912800
ORGANIZER;CN="Patrick MALLET":https://epanews.fr/profile/mallet
ATTACH;FMTTYPE="image/jpeg":http://storage.ning.com/topology/rest/1.0/
 file/get/1663737754?profile=original
ATTENDEE;ROLE=REQ-PARTICIPANT;PARTSTAT=ACCEPTED;RSVP=TRUE;CN=patrice:h
 ttps://epanews.fr/profile/PATRICE83
ATTENDEE;ROLE=REQ-PARTICIPANT;PARTSTAT=ACCEPTED;RSVP=TRUE;CN=Maryvonne
 :https://epanews.fr/profile/mme688
ATTENDEE;ROLE=REQ-PARTICIPANT;PARTSTAT=ACCEPTED;RSVP=TRUE;CN=marie:htt
 ps://epanews.fr/profile/0u645m4rw18a3
ATTENDEE;ROLE=REQ-PARTICIPANT;PARTSTAT=ACCEPTED;RSVP=TRUE;CN="Patrick 
 MALLET":https://epanews.fr/profile/mallet
ATTENDEE;ROLE=REQ-PARTICIPANT;PARTSTAT=TENTATIVE;RSVP=TRUE;CN=fito:htt
 ps://epanews.fr/profile/fito
ATTENDEE;ROLE=REQ-PARTICIPANT;PARTSTAT=TENTATIVE;RSVP=TRUE;CN=Karina:h
 ttps://epanews.fr/profile/Karina319
END:VEVENT
END:VCALENDAR
