BEGIN:VCALENDAR
PRODID:NingEventWidget-v1
VERSION:2.0
METHOD:PUBLISH
BEGIN:VTIMEZONE
TZID:Europe/Paris
X-LIC-LOCATION:Europe/Paris
BEGIN:DAYLIGHT
TZOFFSETFROM:+0100
TZOFFSETTO:+0200
TZNAME:CEST
DTSTART:19700329T020000
RRULE:FREQ=YEARLY;BYMONTH=3;BYDAY=-1SU
END:DAYLIGHT
BEGIN:STANDARD
TZOFFSETFROM:+0200
TZOFFSETTO:+0100
TZNAME:CET
DTSTART:19701025T030000
RRULE:FREQ=YEARLY;BYMONTH=10;BYDAY=-1SU
END:STANDARD
END:VTIMEZONE
BEGIN:VEVENT
UID:2485226:Event:192083
DTSTAMP:20260421T123049Z
SUMMARY:Concert vaisseaux de cristal, son et guérison!
DESCRIPTION:Atelier- Concert- Musicothérapie?\nLe son peut-il guérir
 ?\nIl s'agit d'un voyage à travers le corps, à travers l'espace et l
 e temps que notre corps retient. Mais tant de choses peuvent être dit
 es en ce qui concerne le Son.\nQuoiqu'il en soit vous découvrirez le 
 Son dans sa dimension magique.\nIl vous délivrera Lumière et émerve
 illement!\nParticipation 20€ (difficultés financières: libre parti
 cipation)\nRenseignements et inscription: espace.bambou@hotmail.fr\n\n
 Pour plus d'information, aller sur https://epanews.fr/events/concert-v
 aisseaux-de-cristal
DTSTART;TZID=Europe/Paris:20110129T200000
DTEND;TZID=Europe/Paris:20110129T220000
CATEGORIES:83
LOCATION:Six Fours Les Plages
WEBSITE:
URL:
CONTACT:06 16 70 91 08
ORGANIZER:Richard Bockelée
ATTACH;FMTTYPE="image/jpeg":http://storage.ning.com/topology/rest/1.0/
 file/get/1662379997?profile=original
ATTENDEE;ROLE=REQ-PARTICIPANT;PARTSTAT=ACCEPTED;RSVP=TRUE;CN="Danièle
 ,  \" Espace Bambou\"":https://epanews.fr/profile/DanieleEspaceBambou
ATTENDEE;ROLE=REQ-PARTICIPANT;PARTSTAT=TENTATIVE;RSVP=TRUE;CN=chloé:h
 ttps://epanews.fr/profile/chloe
END:VEVENT
END:VCALENDAR
