BEGIN:VCALENDAR
PRODID:NingEventWidget-v1
VERSION:2.0
METHOD:PUBLISH
BEGIN:VTIMEZONE
TZID:Europe/Paris
X-LIC-LOCATION:Europe/Paris
BEGIN:DAYLIGHT
TZOFFSETFROM:+0100
TZOFFSETTO:+0200
TZNAME:CEST
DTSTART:19700329T020000
RRULE:FREQ=YEARLY;BYMONTH=3;BYDAY=-1SU
END:DAYLIGHT
BEGIN:STANDARD
TZOFFSETFROM:+0200
TZOFFSETTO:+0100
TZNAME:CET
DTSTART:19701025T030000
RRULE:FREQ=YEARLY;BYMONTH=10;BYDAY=-1SU
END:STANDARD
END:VTIMEZONE
BEGIN:VEVENT
UID:2485226:Event:136408
DTSTAMP:20260422T151153Z
SUMMARY:concert unique pour la Paix
DESCRIPTION:Concert par Lhyros, chant des RÃªves des Peuples, un ensem
 ble pluri ethnique unique au monde.\n22 artistes uniront leur talent p
 our un voyage exceptionnel haut en vibrations\nTarif 25â‚¬/ rÃ©duit 18
 â‚¬\n\nPour plus d'information, aller sur https://epanews.fr/events/co
 ncert-unique-pour-la-paix
DTSTART;TZID=Europe/Paris:20101202T203000
DTEND;TZID=Europe/Paris:20101202T223000
CATEGORIES:75
LOCATION:Salle Alfred Cortot
WEBSITE:http://www.lhyros.org
URL:http://www.lhyros.org
CONTACT:01 42 86 93 86
ORGANIZER:Triskell International
ATTACH;FMTTYPE="image/jpeg":http://storage.ning.com/topology/rest/1.0/
 file/get/1662364891?profile=original
ATTENDEE;ROLE=REQ-PARTICIPANT;PARTSTAT=ACCEPTED;RSVP=TRUE;CN="Marie-HÃ
 ©lÃ¨ne JOUDIOU":https://epanews.fr/profile/AssociationSacreToi
ATTENDEE;ROLE=REQ-PARTICIPANT;PARTSTAT=TENTATIVE;RSVP=TRUE;CN=Philippe
 :https://epanews.fr/profile/Philippe860
END:VEVENT
END:VCALENDAR
