BEGIN:VCALENDAR
PRODID:NingEventWidget-v1
VERSION:2.0
METHOD:PUBLISH
BEGIN:VTIMEZONE
TZID:Europe/Paris
X-LIC-LOCATION:Europe/Paris
BEGIN:DAYLIGHT
TZOFFSETFROM:+0100
TZOFFSETTO:+0200
TZNAME:CEST
DTSTART:19700329T020000
RRULE:FREQ=YEARLY;BYMONTH=3;BYDAY=-1SU
END:DAYLIGHT
BEGIN:STANDARD
TZOFFSETFROM:+0200
TZOFFSETTO:+0100
TZNAME:CET
DTSTART:19701025T030000
RRULE:FREQ=YEARLY;BYMONTH=10;BYDAY=-1SU
END:STANDARD
END:VTIMEZONE
BEGIN:VEVENT
UID:2485226:Event:2834002
DTSTAMP:20260422T134733Z
SUMMARY:Concert musiques des anciennes civilisations
DESCRIPTION:Vendredi 9 juin à 20H CONCERT \"MUSIQUES DES ANCIENNES CI
 VILISATIONS\"\n(à la VILLA ROKA 23 corniche du Cros SIX FOURS LES PLA
 GES)\nTarif : 15 euros Inscription : 0684243350/0682638214 \n\nPour 
 plus d'information, aller sur https://epanews.fr/events/concert-musiqu
 es-des-anciennes-civilisations
DTSTART;TZID=Europe/Paris:20170609T200000
DTEND;TZID=Europe/Paris:20170609T213000
CATEGORIES:83
LOCATION:23 corniche du cros six fours les plages
WEBSITE:
URL:
CONTACT:
ORGANIZER;CN=unisson:https://epanews.fr/profile/unisson
ATTACH;FMTTYPE="image/jpeg":http://storage.ning.com/topology/rest/1.0/
 file/get/1663670713?profile=original
ATTENDEE;ROLE=REQ-PARTICIPANT;PARTSTAT=ACCEPTED;RSVP=TRUE;CN=unisson:h
 ttps://epanews.fr/profile/unisson
END:VEVENT
END:VCALENDAR
