BEGIN:VCALENDAR
PRODID:NingEventWidget-v1
VERSION:2.0
METHOD:PUBLISH
BEGIN:VTIMEZONE
TZID:Europe/Paris
X-LIC-LOCATION:Europe/Paris
BEGIN:DAYLIGHT
TZOFFSETFROM:+0100
TZOFFSETTO:+0200
TZNAME:CEST
DTSTART:19700329T020000
RRULE:FREQ=YEARLY;BYMONTH=3;BYDAY=-1SU
END:DAYLIGHT
BEGIN:STANDARD
TZOFFSETFROM:+0200
TZOFFSETTO:+0100
TZNAME:CET
DTSTART:19701025T030000
RRULE:FREQ=YEARLY;BYMONTH=10;BYDAY=-1SU
END:STANDARD
END:VTIMEZONE
BEGIN:VEVENT
UID:2485226:Event:2205874
DTSTAMP:20260426T042434Z
SUMMARY:Concert Multidimensionnel - Srimati
DESCRIPTION:Un concert multidimensionnel vous est proposé le vendredi
  13 février à 20h à l'espace Le Liber Thé à Toulon.  Il se dérou
 lera en deux parties :  1ère partie : Immersion énergétique globale
  et harmonisation à l'aide d'un énorme bol tibétain. C'est une douc
 he énergétique qui permet de lâcher toutes les tensions et de se pr
 éparer à recevoir pleinement les différents sons des instruments du
  concert.  2ème partie : Le concert multidimensionnel avec toutes ses
  surprises en matière de sons, de vibrations, de résonances, de voya
 ges en soi et d'images intérieures.    Pour la première partie, la 
 durée est variable selon le nombre de personnes présentes au concert
 .  Prévoir une durée de 2 heures environ pour l'ensemble de l'évèn
 ement. Pensez à amener votre tapis de yoga, votre coussin de méditat
 ion et un plaid.   Les places sont limitées... Réservations et insc
 riptions conseillées : 06 59 26 21 95\n\nPour plus d'information, all
 er sur https://epanews.fr/events/concert-multidimensionnel-srimati
DTSTART;TZID=Europe/Paris:20150213T200000
DTEND;TZID=Europe/Paris:20150213T213000
CATEGORIES:83
LOCATION:Le Liber'Thé
WEBSITE:
URL:
CONTACT:06 59 26 21 95
ORGANIZER;CN="Alliance Art' & Bien-être":https://epanews.fr/profile/A
 llianceArtBienetre
ATTACH;FMTTYPE="image/jpeg":http://storage.ning.com/topology/rest/1.0/
 file/get/1663317294?profile=original
ATTENDEE;ROLE=REQ-PARTICIPANT;PARTSTAT=ACCEPTED;RSVP=TRUE;CN="Alliance
  Art' & Bien-être":https://epanews.fr/profile/AllianceArtBienetre
END:VEVENT
END:VCALENDAR
