BEGIN:VCALENDAR
PRODID:NingEventWidget-v1
VERSION:2.0
METHOD:PUBLISH
BEGIN:VTIMEZONE
TZID:Europe/Paris
X-LIC-LOCATION:Europe/Paris
BEGIN:DAYLIGHT
TZOFFSETFROM:+0100
TZOFFSETTO:+0200
TZNAME:CEST
DTSTART:19700329T020000
RRULE:FREQ=YEARLY;BYMONTH=3;BYDAY=-1SU
END:DAYLIGHT
BEGIN:STANDARD
TZOFFSETFROM:+0200
TZOFFSETTO:+0100
TZNAME:CET
DTSTART:19701025T030000
RRULE:FREQ=YEARLY;BYMONTH=10;BYDAY=-1SU
END:STANDARD
END:VTIMEZONE
BEGIN:VEVENT
UID:2485226:Event:2303266
DTSTAMP:20260422T220239Z
SUMMARY:Concert multicolore \"Résonances Harmoniques\"
DESCRIPTION:voir le fly\nInvitation à un voyage sonore créatif, dans
  l'inspiration de l'instant présent.\n \nLes sonorités profondes de
 s gongs et didgeridoo se mêlent aux envolées délicates\ndu sitar et
  de la harpe de cristal,\nenlacées de volutes vocales et harmoniques.
 \n \nCette rencontre insolite de sonorités colorées viendra stimule
 r des espaces de\nsensibilité sauvage et de fraîcheur pétillante.\n
 \nPour plus d'information, aller sur https://epanews.fr/events/concert
 -multicolore-r-sonances-harmoniques
DTSTART;TZID=Europe/Paris:20150530T203000
DTEND;TZID=Europe/Paris:20150530T230000
CATEGORIES:34
LOCATION:à Lodève
WEBSITE:http://www.vibrationwakanda.com/detail-95.htm
URL:http://www.vibrationwakanda.com/detail-95.htm
CONTACT:06.33.61.68.21.
ORGANIZER;CN="Catherine DARBORD":https://epanews.fr/profile/CatherineD
 ARBORD
ATTACH;FMTTYPE="image/jpeg":http://storage.ning.com/topology/rest/1.0/
 file/get/1663381496?profile=original
ATTENDEE;ROLE=REQ-PARTICIPANT;PARTSTAT=ACCEPTED;RSVP=TRUE;CN="Catherin
 e DARBORD":https://epanews.fr/profile/CatherineDARBORD
END:VEVENT
END:VCALENDAR
