BEGIN:VCALENDAR
PRODID:NingEventWidget-v1
VERSION:2.0
METHOD:PUBLISH
BEGIN:VTIMEZONE
TZID:Europe/Paris
X-LIC-LOCATION:Europe/Paris
BEGIN:DAYLIGHT
TZOFFSETFROM:+0100
TZOFFSETTO:+0200
TZNAME:CEST
DTSTART:19700329T020000
RRULE:FREQ=YEARLY;BYMONTH=3;BYDAY=-1SU
END:DAYLIGHT
BEGIN:STANDARD
TZOFFSETFROM:+0200
TZOFFSETTO:+0100
TZNAME:CET
DTSTART:19701025T030000
RRULE:FREQ=YEARLY;BYMONTH=10;BYDAY=-1SU
END:STANDARD
END:VTIMEZONE
BEGIN:VEVENT
UID:2485226:Event:1625204
DTSTAMP:20260423T111236Z
SUMMARY:concert  michel garnier et pakoune
DESCRIPTION:hymne a st François d assis et chant pour la paix\ntarif 
 15€ \ntarif réduit pour les jeune ados de la paroisse\n\nPour plus
  d'information, aller sur https://epanews.fr/events/concert-michel-gar
 nier-et-pakoune
DTSTART;TZID=Europe/Paris:20131115T200000
DTEND;TZID=Europe/Paris:20131115T220000
CATEGORIES:66
LOCATION:eglise st martin
WEBSITE:
URL:
CONTACT:0683359411
ORGANIZER;CN="Patrick Dhersin":https://epanews.fr/profile/PatrickDhers
 in
ATTACH;FMTTYPE="image/jpeg":
ATTENDEE;ROLE=REQ-PARTICIPANT;PARTSTAT=ACCEPTED;RSVP=TRUE;CN="Patrick 
 Dhersin":https://epanews.fr/profile/PatrickDhersin
END:VEVENT
END:VCALENDAR
