BEGIN:VCALENDAR
PRODID:NingEventWidget-v1
VERSION:2.0
METHOD:PUBLISH
BEGIN:VTIMEZONE
TZID:Europe/Paris
X-LIC-LOCATION:Europe/Paris
BEGIN:DAYLIGHT
TZOFFSETFROM:+0100
TZOFFSETTO:+0200
TZNAME:CEST
DTSTART:19700329T020000
RRULE:FREQ=YEARLY;BYMONTH=3;BYDAY=-1SU
END:DAYLIGHT
BEGIN:STANDARD
TZOFFSETFROM:+0200
TZOFFSETTO:+0100
TZNAME:CET
DTSTART:19701025T030000
RRULE:FREQ=YEARLY;BYMONTH=10;BYDAY=-1SU
END:STANDARD
END:VTIMEZONE
BEGIN:VEVENT
UID:2485226:Event:2579892
DTSTAMP:20260420T140323Z
SUMMARY:Concert Marc Vella  QUILLAN le 15 Mars 2016
DESCRIPTION:MARC  VELLA EN QUELQUE MOT\nEn vingt cinq ans Marc Vella 
 a parcouru avec son piano à queue environ 200 000 km sur les routes e
 t chemins de plus de quarante pays pour célébrer l’humain : brous
 se malgache, villages africains, pays de l'Est, Sahara, bidonvilles de
  l'Inde, montagnes du Pakistan…\n Grâce aux variacordes qu'il a im
 aginés, sa musique au piano est unique. Pianiste virtuose, Prix de Co
 mposition à Paris en 1985 et 1er Prix de Composition à Rome au TIM 1
 999, il donne des récitals dans le monde entier. Il a enregistré à 
 ce jour huit CD.\n Conférencier émérite, il est le créateur des c
 oncerts d'émergence et donne régulièrement des stages \"Vivre autre
 ment la musique de la vie\" destinés autant aux professionnels de la 
 musique qu'aux profanes.\n mardi 15 Mars 2016 à 20 h Espace Cathare 
  Bd Charles de Gaulle ( à coté de la gare de Quillan)  Renseignement
 s et inscriptions :  Nashuar Terre Vivante : 06 83 35 94 11  celte91@o
 range.fr  Entrée : 10 € pour l’organisation\n\n\nPour plus d'info
 rmation, aller sur https://epanews.fr/events/concert-marc-vella-quilla
 n-le-15-mars-2016
DTSTART;TZID=Europe/Paris:20160315T200000
DTEND;TZID=Europe/Paris:20160315T230000
CATEGORIES:11
LOCATION:Espace Cathare
WEBSITE:
URL:
CONTACT:0683359411
ORGANIZER;CN="Patrick Dhersin":https://epanews.fr/profile/PatrickDhers
 in
ATTACH;FMTTYPE="image/jpeg":http://storage.ning.com/topology/rest/1.0/
 file/get/1663528109?profile=original
ATTENDEE;ROLE=REQ-PARTICIPANT;PARTSTAT=ACCEPTED;RSVP=TRUE;CN="Patrick 
 Dhersin":https://epanews.fr/profile/PatrickDhersin
END:VEVENT
END:VCALENDAR
