BEGIN:VCALENDAR
PRODID:NingEventWidget-v1
VERSION:2.0
METHOD:PUBLISH
BEGIN:VTIMEZONE
TZID:Europe/Paris
X-LIC-LOCATION:Europe/Paris
BEGIN:DAYLIGHT
TZOFFSETFROM:+0100
TZOFFSETTO:+0200
TZNAME:CEST
DTSTART:19700329T020000
RRULE:FREQ=YEARLY;BYMONTH=3;BYDAY=-1SU
END:DAYLIGHT
BEGIN:STANDARD
TZOFFSETFROM:+0200
TZOFFSETTO:+0100
TZNAME:CET
DTSTART:19701025T030000
RRULE:FREQ=YEARLY;BYMONTH=10;BYDAY=-1SU
END:STANDARD
END:VTIMEZONE
BEGIN:VEVENT
UID:2485226:Event:1684947
DTSTAMP:20260422T172955Z
SUMMARY:Concert mÃ©ditatif. Relaxation profonde avec les bols de crist
 al.
DESCRIPTION:ConcertÂ  mÃ©ditatifÂ  avecÂ  uneÂ  quarantainesÂ  de bols
 Â  de cristal. Â Le but : uneÂ  relaxationÂ  profondeÂ  du corpsÂ  etÂ
   de l'esprit.\nDeux sÃ©ances 18H30 et 20H30\nDurÃ©e 1h30 Ã  2h. Tarif
 : 20euros\nPour plus de prÃ©cision:Â  www.voie-de-soi.com Â  (meditt.a
 .son)\n\nPour plus d'information, aller sur https://epanews.fr/events/
 concert-m-ditatif-relaxation-profonde-avec-les-bols-de-cristal
DTSTART;TZID=Europe/Paris:20131220T203000
DTEND;TZID=Europe/Paris:20131220T220000
CATEGORIES:69
LOCATION:Lyon croix Rousse
WEBSITE:
URL:
CONTACT:0665551736
ORGANIZER;CN="Meditt.a.son":https://epanews.fr/profile/Medittason
ATTACH;FMTTYPE="image/jpeg":http://storage.ning.com/topology/rest/1.0/
 file/get/1662994731?profile=original
ATTENDEE;ROLE=REQ-PARTICIPANT;PARTSTAT=ACCEPTED;RSVP=TRUE;CN="Meditt.a
 .son":https://epanews.fr/profile/Medittason
END:VEVENT
END:VCALENDAR
