BEGIN:VCALENDAR
PRODID:NingEventWidget-v1
VERSION:2.0
METHOD:PUBLISH
BEGIN:VTIMEZONE
TZID:Europe/Paris
X-LIC-LOCATION:Europe/Paris
BEGIN:DAYLIGHT
TZOFFSETFROM:+0100
TZOFFSETTO:+0200
TZNAME:CEST
DTSTART:19700329T020000
RRULE:FREQ=YEARLY;BYMONTH=3;BYDAY=-1SU
END:DAYLIGHT
BEGIN:STANDARD
TZOFFSETFROM:+0200
TZOFFSETTO:+0100
TZNAME:CET
DTSTART:19701025T030000
RRULE:FREQ=YEARLY;BYMONTH=10;BYDAY=-1SU
END:STANDARD
END:VTIMEZONE
BEGIN:VEVENT
UID:2485226:Event:1685038
DTSTAMP:20260421T110717Z
SUMMARY:Concert méditatif. Relaxation profonde avec les bols de crist
 al.
DESCRIPTION: \nConcert  méditatif  avec  une  quarantaines  de 
 bols  de cristal.  Le but : une  relaxation  profonde  du corps 
  et  de l'esprit.\nDeux séances 17H et 20h\nDurée 1h30 à 2h. Tarif
 : 20euros\nPour plus de précision:  www.voie-de-soi.com   (meditt.a
 .son)\n\n\nPour plus d'information, aller sur https://epanews.fr/event
 s/concert-m-ditatif-relaxation-profonde-avec-les-bols-de-cristal-1
DTSTART;TZID=Europe/Paris:20131221T200000
DTEND;TZID=Europe/Paris:20131221T220000
CATEGORIES:38
LOCATION:38480  ROMAGNIEU
WEBSITE:
URL:
CONTACT:0665551736
ORGANIZER;CN="Meditt.a.son":https://epanews.fr/profile/Medittason
ATTACH;FMTTYPE="image/jpeg":http://storage.ning.com/topology/rest/1.0/
 file/get/1662997456?profile=original
ATTENDEE;ROLE=REQ-PARTICIPANT;PARTSTAT=ACCEPTED;RSVP=TRUE;CN="Meditt.a
 .son":https://epanews.fr/profile/Medittason
END:VEVENT
END:VCALENDAR
