BEGIN:VCALENDAR
PRODID:NingEventWidget-v1
VERSION:2.0
METHOD:PUBLISH
BEGIN:VTIMEZONE
TZID:Europe/Paris
X-LIC-LOCATION:Europe/Paris
BEGIN:DAYLIGHT
TZOFFSETFROM:+0100
TZOFFSETTO:+0200
TZNAME:CEST
DTSTART:19700329T020000
RRULE:FREQ=YEARLY;BYMONTH=3;BYDAY=-1SU
END:DAYLIGHT
BEGIN:STANDARD
TZOFFSETFROM:+0200
TZOFFSETTO:+0100
TZNAME:CET
DTSTART:19701025T030000
RRULE:FREQ=YEARLY;BYMONTH=10;BYDAY=-1SU
END:STANDARD
END:VTIMEZONE
BEGIN:VEVENT
UID:2485226:Event:2575417
DTSTAMP:20260424T222032Z
SUMMARY:Concert Logos
DESCRIPTION:*******************Exceptionnel en Bretagne***************
 *****\n LOGOS en concert à Gourin, Domaine de Tronjoly - 56-  Une seu
 le et unique date, le samedi 5 mars 2016 à 20hBilletterie sur :https:
 //www.weezevent.com/concert-logos\n\nPour plus d'information, aller su
 r https://epanews.fr/events/concert-logos-1
DTSTART;TZID=Europe/Paris:20160305T200000
DTEND;TZID=Europe/Paris:20160305T213000
CATEGORIES:56, 29, 22, 35, 44
LOCATION:salle des spectacles, 56110 GOURIN
WEBSITE:http://aivent18.fr
URL:http://aivent18.fr
CONTACT:06 07 25 49 80
ORGANIZER;CN=VAB56:https://epanews.fr/profile/VAB56
ATTACH;FMTTYPE="image/jpeg":http://storage.ning.com/topology/rest/1.0/
 file/get/1663525118?profile=original
ATTENDEE;ROLE=REQ-PARTICIPANT;PARTSTAT=ACCEPTED;RSVP=TRUE;CN=VAB56:htt
 ps://epanews.fr/profile/VAB56
END:VEVENT
END:VCALENDAR
