BEGIN:VCALENDAR
PRODID:NingEventWidget-v1
VERSION:2.0
METHOD:PUBLISH
BEGIN:VTIMEZONE
TZID:Europe/Paris
X-LIC-LOCATION:Europe/Paris
BEGIN:DAYLIGHT
TZOFFSETFROM:+0100
TZOFFSETTO:+0200
TZNAME:CEST
DTSTART:19700329T020000
RRULE:FREQ=YEARLY;BYMONTH=3;BYDAY=-1SU
END:DAYLIGHT
BEGIN:STANDARD
TZOFFSETFROM:+0200
TZOFFSETTO:+0100
TZNAME:CET
DTSTART:19701025T030000
RRULE:FREQ=YEARLY;BYMONTH=10;BYDAY=-1SU
END:STANDARD
END:VTIMEZONE
BEGIN:VEVENT
UID:2485226:Event:1575883
DTSTAMP:20260424T051234Z
SUMMARY:Modification demandée
DESCRIPTION:CristalvibraSons vous invite à un concert exceptionnel. U
 ne aventure riche en paysages sonores, un voyage inédit dans les terr
 es et les mythes du Monde où s’unissent, comme par magie, des instr
 uments traditionnels, des instruments contemporains inédits et des ch
 ants sacrés.\nCette cérémonie musicale, animée par Muriel et Pasca
 l Lacombe, est un réel hommage « au cœur de nos mémoires ».\nMu
 riel et Pascale sont praticiens en techniques vibratoires et sonores,
  experts et formateurs dans l’utilisation des bols chantants en cr
 istal de quartz. Le cœur de leur enseignement sert le rayonnement de
  l’identité cristalline en chacun de nous.\nLeur nouveau CD « Au
  cœur de nos Mémoires » est une aventure sonore riche et originale
  qui conjugue la dimension spirituelle, l'approche thérapeutique et u
 ne atmosphère musicale de relaxation.\nEntrée : 12 €\nRéservatio
 n à la librairie Pégase ou au 05 56 51 38 12\nNB : pensez à pren
 dre vêtements chauds et/ ou couvertures\n\nPour plus d'information, a
 ller sur https://epanews.fr/events/concert-exceptionnel-avec-cristalvi
 brasons-en-l-eglise-de
DTSTART;TZID=Europe/Paris:20131213T203000
DTEND;TZID=Europe/Paris:20131213T220000
CATEGORIES:47, 24, 33, 40, 64
LOCATION:Eglise de Cadaujac
WEBSITE:
URL:
CONTACT:05 56 51 38 12
ORGANIZER;CN="Librairie PEGASE":https://epanews.fr/profile/LibrairiePE
 GASE
ATTACH;FMTTYPE="image/jpeg":http://storage.ning.com/topology/rest/1.0/
 file/get/1662947951?profile=original
ATTENDEE;ROLE=REQ-PARTICIPANT;PARTSTAT=ACCEPTED;RSVP=TRUE;CN="Librairi
 e PEGASE":https://epanews.fr/profile/LibrairiePEGASE
END:VEVENT
END:VCALENDAR
