BEGIN:VCALENDAR
PRODID:NingEventWidget-v1
VERSION:2.0
METHOD:PUBLISH
BEGIN:VTIMEZONE
TZID:Europe/Paris
X-LIC-LOCATION:Europe/Paris
BEGIN:DAYLIGHT
TZOFFSETFROM:+0100
TZOFFSETTO:+0200
TZNAME:CEST
DTSTART:19700329T020000
RRULE:FREQ=YEARLY;BYMONTH=3;BYDAY=-1SU
END:DAYLIGHT
BEGIN:STANDARD
TZOFFSETFROM:+0200
TZOFFSETTO:+0100
TZNAME:CET
DTSTART:19701025T030000
RRULE:FREQ=YEARLY;BYMONTH=10;BYDAY=-1SU
END:STANDARD
END:VTIMEZONE
BEGIN:VEVENT
UID:2485226:Event:1127999
DTSTAMP:20260423T064612Z
SUMMARY:Concert et Lancement Album Rashmi Kant
DESCRIPTION:1° INVITATION AU CONCERT ET LANCEMENT D'ALBUM\nVous êtes
  cordialement invité au lancement de l'album de RASHMI KANT \"Le Fils
  de l'Himalaya\" à Paris le 1er fevrier à 21h à la PENICHE ANTIPODE
  - 55 Quai de la Seine Paris 75019\nRashmi interprétera plusieurs ti
 tres de l'album ce soir-là. Album disponible en vente à la sortie.  
  Prix billet/Price ticket : 10€ Tarif réduit :  enfants, seniors, c
 hômeurs : 8€ children, seniors, unemployed : 8€  Invité spécial
 e : ANANDA (Ana Maria Precetti)  pour illustrer avec Rashmi Kant trois
  titres de l'album.   CONTACT pour réserver votre place / CONTACT boo
 king : swarinternational@gmail.com\nPOUR RESERVER ET REGLER EN LIGNE c
 liquez sur les boutons PAYPAL sur cette page : http://ananda-france.we
 bs.com/\nvoir l'enregistrement du titre Vers une autre Fortune http://
 www.dailymotion.com/video/xvnix3_rashmi-kant-vers-une-autre-fortune-of
 ficial_music#.UOK9Q28sAbR\n\nPRESENTATION  Rashmi Kant a retiré de sa
  double culture française et indienne toute la force et la finesse de
  ses textes exigeants et de sa musique métissée, qui tantôt vous tr
 ansporte dans les palais d’Asie, tantôt évoque la pop culture amé
 ricaine ou la chanson française.  Rashmi Kant vous invite à la crois
 ée des chemins entre Orient et Occident à travers ses mélodies et s
 on univers musical unique en France.\n\n\nPour plus d'information, all
 er sur https://epanews.fr/events/concert-et-lancement-album-rashmi-kan
 t-1
DTSTART;TZID=Europe/Paris:20130201T210000
DTEND;TZID=Europe/Paris:20130201T220000
CATEGORIES:75
LOCATION:Paris 19
WEBSITE:https://maps.google.fr/maps?ie=utf-8&gl=fr&daddr=55+Quai+de+la
 +Seine,+75019+Paris&panel=1&f=d&fb=1&dirflg=d&geocode=0,48.886927,2.37
 5290&cid=0,0,12763639087745953048&hq=peniche+antipode&hnear=0x47e66484
 d9df25bf:0x7b21ee1c6ac147e2,Nanterre
URL:https://maps.google.fr/maps?ie=utf-8&gl=fr&daddr=55+Quai+de+la+Sei
 ne,+75019+Paris&panel=1&f=d&fb=1&dirflg=d&geocode=0,48.886927,2.375290
 &cid=0,0,12763639087745953048&hq=peniche+antipode&hnear=0x47e66484d9df
 25bf:0x7b21ee1c6ac147e2,Nanterre
CONTACT:0612795418
ORGANIZER;CN="Ananda - Chant & Yoga du son":https://epanews.fr/profile
 /SwarInternational
ATTACH;FMTTYPE="image/jpeg":http://storage.ning.com/topology/rest/1.0/
 file/get/1662741053?profile=original
ATTENDEE;ROLE=REQ-PARTICIPANT;PARTSTAT=ACCEPTED;RSVP=TRUE;CN="Ananda -
  Chant & Yoga du son":https://epanews.fr/profile/SwarInternational
END:VEVENT
END:VCALENDAR
