BEGIN:VCALENDAR
PRODID:NingEventWidget-v1
VERSION:2.0
METHOD:PUBLISH
BEGIN:VTIMEZONE
TZID:Europe/Paris
X-LIC-LOCATION:Europe/Paris
BEGIN:DAYLIGHT
TZOFFSETFROM:+0100
TZOFFSETTO:+0200
TZNAME:CEST
DTSTART:19700329T020000
RRULE:FREQ=YEARLY;BYMONTH=3;BYDAY=-1SU
END:DAYLIGHT
BEGIN:STANDARD
TZOFFSETFROM:+0200
TZOFFSETTO:+0100
TZNAME:CET
DTSTART:19701025T030000
RRULE:FREQ=YEARLY;BYMONTH=10;BYDAY=-1SU
END:STANDARD
END:VTIMEZONE
BEGIN:VEVENT
UID:2485226:Event:1966089
DTSTAMP:20260421T062628Z
SUMMARY:Concert du Coeur: Féminin sacré avec Yann et Awen
DESCRIPTION:Le dernier concert du Cœur de l'été aura lieu le jour d
 e la sainte Marie-Madeleine. Il aura pour intention d'honorer le fémi
 nin sacré et de vous relier à ses énergies à travers le son.  Que 
 ce soit pour les hommes grâce à la part féminine en eux ou pour les
  femmes, le réveil ou l'approfondissement du féminin conscient offre
  la possibilité d'un nouveau regard et d'une autre manière de goûte
 r la vie.  Dans cette soirée sera proposés, en introduction, une mé
 ditation guidée sur le thème du féminin sacré, puis, le concert du
  Cœur, à travers les sons, les voix et les musiques composées en l'
 instant à partir de l'espace du Cœur, terminé par un temps d'intég
 ration.  Afin de faciliter l'accueil des énergies féminines, les son
 s offrirons la possibilité de nettoyage des énergies anciennes et de
  connexions aux nouvelles, agissant ainsi comme une invitation au soin
  par les sons.   Les Concerts du Coeur sont un espace sacré, de déte
 nte, de guérison et de paix. Un moment d'intimité, d'infinité avec 
 soi même.  Vous êtes invités à venir vivre un voyage musical hors 
 du temps à travers des sonorités harmoniques, multicolores et guéri
 sseuses.  Les morceaux sont totalement improvisés et joués en consci
 ence, à partir de...... l’espace cœur.  L'invitation dans ces conc
 erts méditatif est de fermer les yeux (ou pas), d'écouter, de ressen
 tir et de se laisser guider par la magie des sons.   Instruments utili
 sés : Cosmicbow (un nouvel instrument de la famille des arcs en bouch
 es), Kora, Mougongo (arc en bouche traditionnel Pygmée), Tambour amé
 rindien, Flûte harmonique, Bâton de pluie, Océan Drum, GongDrum, Bo
 l de cristal et Bols tibétains, Gongs, Guimbarde, Shruti Box, Carillo
 ns, et bien sûre la Voix.    Participation pour le Concert : Tarif pl
 ein / Réduit: 20 / 15 euros   Capacité de la salle limité, pour pou
 voir assister au Concert, merci de vous inscrire:  Infos et inscriptio
 ns : Yann au 06 24 34 44 24 conscienceducoeur999@gmail.com  Pour confi
 rmer votre inscription, merci d'envoyer un mail ou un sms en indiquant
  le nombre de personnes à inscrire.   P.S.: Merci de partager l'infor
 mation avec vos amis et dans vos réseaux... :)   Bienvenue a tous!   
 WWW.CONSCIENCEDUCOEUR.COM  WWW.SPIRALEDESENS.FR\n\nPour plus d'informa
 tion, aller sur https://epanews.fr/events/concert-du-coeur-f-minin-sac
 r-avec-yann-et-awen
DTSTART;TZID=Europe/Paris:20140722T200000
DTEND;TZID=Europe/Paris:20140722T220000
CATEGORIES:75
LOCATION:à Paris, Espace JAYA
WEBSITE:http://www.conscienceducoeur.com
URL:http://www.conscienceducoeur.com
CONTACT:0624344424
ORGANIZER;CN="Conscience du Coeur":https://epanews.fr/profile/Conscien
 ceduCoeur
ATTACH;FMTTYPE="image/jpeg":http://storage.ning.com/topology/rest/1.0/
 file/get/1663171665?profile=original
ATTENDEE;ROLE=REQ-PARTICIPANT;PARTSTAT=ACCEPTED;RSVP=TRUE;CN="Conscien
 ce du Coeur":https://epanews.fr/profile/ConscienceduCoeur
END:VEVENT
END:VCALENDAR
