BEGIN:VCALENDAR
PRODID:NingEventWidget-v1
VERSION:2.0
METHOD:PUBLISH
BEGIN:VTIMEZONE
TZID:Europe/Paris
X-LIC-LOCATION:Europe/Paris
BEGIN:DAYLIGHT
TZOFFSETFROM:+0100
TZOFFSETTO:+0200
TZNAME:CEST
DTSTART:19700329T020000
RRULE:FREQ=YEARLY;BYMONTH=3;BYDAY=-1SU
END:DAYLIGHT
BEGIN:STANDARD
TZOFFSETFROM:+0200
TZOFFSETTO:+0100
TZNAME:CET
DTSTART:19701025T030000
RRULE:FREQ=YEARLY;BYMONTH=10;BYDAY=-1SU
END:STANDARD
END:VTIMEZONE
BEGIN:VEVENT
UID:2485226:Event:367392
DTSTAMP:20260420T123852Z
SUMMARY:Concert de Sitar du Nord de l'Inde
DESCRIPTION:Sitariste professionnel et chanteur,\nPandit Narendra Mish
 raappartient Ã  la plus vÃ©nÃ©rable famillede Musiciens du Nord de l'I
 nde.Son pÃ¨re Mannu Lal MishraconsidÃ©rÃ© comme un MaÃ®tre, lui enseig
 na la voix,le sitar et les tablas.Il se spÃ©cialisa ensuite dans le si
 tar auprÃ¨s deUstad Vilayat Khan,lâ€™un des plus grand sitaristeet ava
 nt gardiste notoire.\nSa vivacitÃ©, sa virtuositÃ©, rÃ©jouissent le cÅ
 “ur et lâ€™Ã¢me.Les prÃ©cieuses improvisations qui naissent dans ses m
 Ã©lodies crÃ©ent une heureuse complicitÃ© avec le public.\nEntrÃ©e 6 â
 ‚¬. rÃ©servation conseillÃ©e.\n\nPour plus d'information, aller sur ht
 tps://epanews.fr/events/concert-de-sitar-du-nord-de
DTSTART;TZID=Europe/Paris:20110711T200000
DTEND;TZID=Europe/Paris:20110711T230000
CATEGORIES:30
LOCATION:ALES
WEBSITE:
URL:
CONTACT:04 30 38 65 78 / 06 61 32 22 01
ORGANIZER;CN="Marie-HÃ©lÃ¨ne JOUDIOU":https://epanews.fr/profile/Assoc
 iationSacreToi
ATTACH;FMTTYPE="image/jpeg":
ATTENDEE;ROLE=REQ-PARTICIPANT;PARTSTAT=ACCEPTED;RSVP=TRUE;CN="Marie-HÃ
 ©lÃ¨ne JOUDIOU":https://epanews.fr/profile/AssociationSacreToi
END:VEVENT
END:VCALENDAR
