BEGIN:VCALENDAR
PRODID:NingEventWidget-v1
VERSION:2.0
METHOD:PUBLISH
BEGIN:VTIMEZONE
TZID:Europe/Paris
X-LIC-LOCATION:Europe/Paris
BEGIN:DAYLIGHT
TZOFFSETFROM:+0100
TZOFFSETTO:+0200
TZNAME:CEST
DTSTART:19700329T020000
RRULE:FREQ=YEARLY;BYMONTH=3;BYDAY=-1SU
END:DAYLIGHT
BEGIN:STANDARD
TZOFFSETFROM:+0200
TZOFFSETTO:+0100
TZNAME:CET
DTSTART:19701025T030000
RRULE:FREQ=YEARLY;BYMONTH=10;BYDAY=-1SU
END:STANDARD
END:VTIMEZONE
BEGIN:VEVENT
UID:2485226:Event:104264
DTSTAMP:20260424T132339Z
SUMMARY:Concert de Marc Vella Le pianiste nomade
DESCRIPTION:Une belle rencontre, un grand moment à vivre avec Marc.\n
 Pour en savoir plus. Je vous invite à consulter les liens suivants:\n
 http://www.marcvella.com/\nhttp://www.antennereunion.fr/Marc-Vella.htm
 l\n\nLe tarif est de 12€\n\nPour plus d'information, aller sur https
 ://epanews.fr/events/concert-de-marc-vella-le
DTSTART;TZID=Europe/Paris:20100919T180000
DTEND;TZID=Europe/Paris:20100919T210000
CATEGORIES:04
LOCATION:04380 THOARD Champ communal ou salle des fêtes
WEBSITE:
URL:
CONTACT:06 23 29 03 92
ORGANIZER:Association Itinérances
ATTACH;FMTTYPE="image/jpeg":
ATTENDEE;ROLE=REQ-PARTICIPANT;PARTSTAT=ACCEPTED;RSVP=TRUE;CN="Associat
 ion Chadansouri Ariane":https://epanews.fr/profile/AssociationChadanso
 uri
END:VEVENT
END:VCALENDAR
