BEGIN:VCALENDAR
PRODID:NingEventWidget-v1
VERSION:2.0
METHOD:PUBLISH
BEGIN:VTIMEZONE
TZID:Europe/Paris
X-LIC-LOCATION:Europe/Paris
BEGIN:DAYLIGHT
TZOFFSETFROM:+0100
TZOFFSETTO:+0200
TZNAME:CEST
DTSTART:19700329T020000
RRULE:FREQ=YEARLY;BYMONTH=3;BYDAY=-1SU
END:DAYLIGHT
BEGIN:STANDARD
TZOFFSETFROM:+0200
TZOFFSETTO:+0100
TZNAME:CET
DTSTART:19701025T030000
RRULE:FREQ=YEARLY;BYMONTH=10;BYDAY=-1SU
END:STANDARD
END:VTIMEZONE
BEGIN:VEVENT
UID:2485226:Event:2702677
DTSTAMP:20260420T221002Z
SUMMARY:concert de harpe à FA
DESCRIPTION: concert en duo avec Keryda et Ronya\nun moment intense d
 e bonheur\nparticipation au frais libre\n\nPour plus d'information, al
 ler sur https://epanews.fr/events/concert-de-harpe-fa
DTSTART;TZID=Europe/Paris:20160904T160000
DTEND;TZID=Europe/Paris:20160904T180000
CATEGORIES:11, 66, 09
LOCATION:eglise St Loup de Sens
WEBSITE:https://www.google.fr/maps/place/42%C2%B056'16.7%22N+2%C2%B011
 '27.8%22E/@42.937972,2.1905208,19z/data=!3m1!4b1!4m5!3m4!1s0x0:0x0!8m2
 !3d42.937971!4d2.191068
URL:https://www.google.fr/maps/place/42%C2%B056'16.7%22N+2%C2%B011'27.
 8%22E/@42.937972,2.1905208,19z/data=!3m1!4b1!4m5!3m4!1s0x0:0x0!8m2!3d4
 2.937971!4d2.191068
CONTACT:0683359411
ORGANIZER:Nashuar terre vivante
ATTACH;FMTTYPE="image/jpeg":http://storage.ning.com/topology/rest/1.0/
 file/get/1663598180?profile=original
ATTENDEE;ROLE=REQ-PARTICIPANT;PARTSTAT=ACCEPTED;RSVP=TRUE;CN="Patrick 
 Dhersin":https://epanews.fr/profile/PatrickDhersin
END:VEVENT
END:VCALENDAR
