BEGIN:VCALENDAR
PRODID:NingEventWidget-v1
VERSION:2.0
METHOD:PUBLISH
BEGIN:VTIMEZONE
TZID:Europe/Paris
X-LIC-LOCATION:Europe/Paris
BEGIN:DAYLIGHT
TZOFFSETFROM:+0100
TZOFFSETTO:+0200
TZNAME:CEST
DTSTART:19700329T020000
RRULE:FREQ=YEARLY;BYMONTH=3;BYDAY=-1SU
END:DAYLIGHT
BEGIN:STANDARD
TZOFFSETFROM:+0200
TZOFFSETTO:+0100
TZNAME:CET
DTSTART:19701025T030000
RRULE:FREQ=YEARLY;BYMONTH=10;BYDAY=-1SU
END:STANDARD
END:VTIMEZONE
BEGIN:VEVENT
UID:2485226:Event:1663385
DTSTAMP:20260423T133200Z
SUMMARY:Concert de harpe,calices de crystal & voix de l'ange
DESCRIPTION:donné par sandrine Chenevas & Isabella Baicchi (video)\n\
 n\n\n\n\n\nPour plus d'information, aller sur https://epanews.fr/event
 s/concert-de-harpe-calices-de-crystal-voix-de-l-ange
DTSTART;TZID=Europe/Paris:20131206T203000
DTEND;TZID=Europe/Paris:20131206T213000
CATEGORIES:suisse
LOCATION:Geneve
WEBSITE:http://www.lavoiedelange.fr    www.femme-de-lumiere.fr
URL:http://www.lavoiedelange.fr    www.femme-de-lumiere.fr
CONTACT:06.70.18.89.98
ORGANIZER;CN=Chenevas-Paule:https://epanews.fr/profile/ChenevasPaule
ATTACH;FMTTYPE="image/jpeg":http://storage.ning.com/topology/rest/1.0/
 file/get/1662986431?profile=original
ATTENDEE;ROLE=REQ-PARTICIPANT;PARTSTAT=ACCEPTED;RSVP=TRUE;CN=Chenevas-
 Paule:https://epanews.fr/profile/ChenevasPaule
END:VEVENT
END:VCALENDAR
