BEGIN:VCALENDAR
PRODID:NingEventWidget-v1
VERSION:2.0
METHOD:PUBLISH
BEGIN:VTIMEZONE
TZID:Europe/Paris
X-LIC-LOCATION:Europe/Paris
BEGIN:DAYLIGHT
TZOFFSETFROM:+0100
TZOFFSETTO:+0200
TZNAME:CEST
DTSTART:19700329T020000
RRULE:FREQ=YEARLY;BYMONTH=3;BYDAY=-1SU
END:DAYLIGHT
BEGIN:STANDARD
TZOFFSETFROM:+0200
TZOFFSETTO:+0100
TZNAME:CET
DTSTART:19701025T030000
RRULE:FREQ=YEARLY;BYMONTH=10;BYDAY=-1SU
END:STANDARD
END:VTIMEZONE
BEGIN:VEVENT
UID:2485226:Event:2118735
DTSTAMP:20260422T180944Z
SUMMARY:Concert de bol de Cristal
DESCRIPTION:Concert de bol de cristal :\n\n\n\nle samedi 22 novembre\n
 18h suivit d'un repas partagé\nPar Valérie Phillipot\nLa résonance 
 des sons sacrés fait vibrer l'ensemble des cellules du corps. Des mé
 moires se libèrent et de nouvelles connexions se font, ce qui permet 
 à notre potentiel, à nos qualités de s'exprimer pleinement. Ils él
 èvent le taux vibratoire des personnes et des lieux.\nIl est mentionn
 é dans les textes védiques hindous que le Cristal amplifie 15000 foi
 s l'intention posée lors de son utilisation. Assister à une méditat
 ion sonore avec les Bols Chantants est une expérience unique qui se v
 it dans chacune de nos cellules et à tous les niveaux de notre être.
 \nLes Bols Chantants de Cristal et de Quartz sont des outils vivants e
 t puissants pour élever la Conscience, élever les Vibrations et appo
 rter la Paix dans notre Coeur et sur la Terre. C'est l'opportunité d'
 un massage vibratoire d’environ 55 mns.\nParticipation au chapeau. 
 \n\n\n\n \n\nPour plus d'information, aller sur https://epanews.fr/ev
 ents/concert-de-bol-de-cristal
DTSTART;TZID=Europe/Paris:20141122T180000
DTEND;TZID=Europe/Paris:20141122T230000
CATEGORIES:38500, coublevie
LOCATION:Coublevie 38500
WEBSITE:
URL:
CONTACT:0689846987
ORGANIZER;CN="Sentihes Valérie":https://epanews.fr/profile/AmourouxVa
 lerie
ATTACH;FMTTYPE="image/jpeg":
ATTENDEE;ROLE=REQ-PARTICIPANT;PARTSTAT=ACCEPTED;RSVP=TRUE;CN="Sentihes
  Valérie":https://epanews.fr/profile/AmourouxValerie
END:VEVENT
END:VCALENDAR
