BEGIN:VCALENDAR
PRODID:NingEventWidget-v1
VERSION:2.0
METHOD:PUBLISH
BEGIN:VTIMEZONE
TZID:Europe/Paris
X-LIC-LOCATION:Europe/Paris
BEGIN:DAYLIGHT
TZOFFSETFROM:+0100
TZOFFSETTO:+0200
TZNAME:CEST
DTSTART:19700329T020000
RRULE:FREQ=YEARLY;BYMONTH=3;BYDAY=-1SU
END:DAYLIGHT
BEGIN:STANDARD
TZOFFSETFROM:+0200
TZOFFSETTO:+0100
TZNAME:CET
DTSTART:19701025T030000
RRULE:FREQ=YEARLY;BYMONTH=10;BYDAY=-1SU
END:STANDARD
END:VTIMEZONE
BEGIN:VEVENT
UID:2485226:Event:933436
DTSTAMP:20260421T112054Z
SUMMARY:Concert & Danse pour la Paix
DESCRIPTION:Samedi 06 octobre :\n14h30-18h : Concert pour la Paix, mus
 ique d'Orient et d'Occident.\nConcert & Danse pour la Paix\n- Srinwant
 i Chakrabarti (danse indienne Odissi)\n- Pakoune et Michel Garnier (vo
 yage autour de Marie-Madeleine et Saint-FranÃ§ois dâ€™Assise)\n- Swar 
 International (chant indien)\n- Horizons IntÃ©rieurs (bols et didgerid
 oo de cristal)\n- YaÃ«lle (chant SacrÃ©)Sri TathÃ¢ta revient Ã  Paris 
 les 6, 7 et 8 octobre 2012 au Palais des CongrÃ¨s de Montreuil.\nÂ \n\
 nÂ \nLieu :\nPalais des CongrÃ¨s de Montreuil\n128 rue de Paris, 93100
  MONTREUIL\n(MÂ° : Robespierre, Ligne 9)\nÂ SPECTACLE :\nSamedi aprÃ¨s
 -midi : 15 â‚¬ (Tarif rÃ©duit 10 â‚¬)Â  (hors frais deÂ rÃ©servationÂ 
 Fnac)\nRÃ©servation : en ligne surÂ www.fnac.com, >> cliquez iciÂ  et 
 en magasins Fnac, Carrefour, GÃ©ant, Hyper U, IntermarchÃ©, Offices de
  Tourisme\nÂ \nRenseignements : messagedepaixparis2012@yahoo.fr et sit
 ehttp://www.expansiondeconscience.org\nÂ \nRÃ©servez dÃ¨sÂ maintenantÂ
  vos billets.\nDans la joie de sâ€™y retrouver !\nÂ \n\nPour plus d'in
 formation, aller sur https://epanews.fr/events/concert-danse-pour-la-p
 aix
DTSTART;TZID=Europe/Paris:20121006T143000
DTEND;TZID=Europe/Paris:20121006T180000
CATEGORIES:93
LOCATION:Montreuil Sous Bois
WEBSITE:http://www.expansiondeconscience.org
URL:http://www.expansiondeconscience.org
CONTACT:06.69.33.71.13 - 01.48.59.81.05
ORGANIZER;CN=musiqueclemennt:https://epanews.fr/profile/musiqueclemenn
 t
ATTACH;FMTTYPE="image/jpeg":http://storage.ning.com/topology/rest/1.0/
 file/get/1662659566?profile=original
ATTENDEE;ROLE=REQ-PARTICIPANT;PARTSTAT=ACCEPTED;RSVP=TRUE;CN=musiquecl
 emennt:https://epanews.fr/profile/musiqueclemennt
END:VEVENT
END:VCALENDAR
