BEGIN:VCALENDAR
PRODID:NingEventWidget-v1
VERSION:2.0
METHOD:PUBLISH
BEGIN:VTIMEZONE
TZID:Europe/Paris
X-LIC-LOCATION:Europe/Paris
BEGIN:DAYLIGHT
TZOFFSETFROM:+0100
TZOFFSETTO:+0200
TZNAME:CEST
DTSTART:19700329T020000
RRULE:FREQ=YEARLY;BYMONTH=3;BYDAY=-1SU
END:DAYLIGHT
BEGIN:STANDARD
TZOFFSETFROM:+0200
TZOFFSETTO:+0100
TZNAME:CET
DTSTART:19701025T030000
RRULE:FREQ=YEARLY;BYMONTH=10;BYDAY=-1SU
END:STANDARD
END:VTIMEZONE
BEGIN:VEVENT
UID:2485226:Event:2794342
DTSTAMP:20260422T151310Z
SUMMARY:Concert / confÃ©rence Marc VELLA \"La ClÃ© d'ÃŠtre\" 12â‚¬
DESCRIPTION:1Ã¨re partieÂ : Improvisations de Marc Vella au piano pour
  accompagner le film de la Caravane amoureuse en Ethiopie (nov. 2015)\
 nÂ« A chaque concert, je dis au public lâ€™importance de se mettre Ã  
 lâ€™Ã©coute des instants qui nous sont donnÃ©s. PourquoiÂ ? Parce que 
 chaque instant porte en lui une rÃ©vÃ©lation.Â Â»\n2Ã¨me partie â€“ Co
 nfÃ©rence sur Â«Â la clÃ© dâ€™ÃªtreÂ Â», thÃ¨mes dÃ©veloppÃ©s dans son
  dernier ouvrage.\n3Ã¨me partie â€“ Concerts dâ€™Ã©mergence â€“ Marc i
 nvite des personnes dans le public qui nâ€™ont jamais jouÃ© de piano Ã
   venir jouer avec lui.\nMarc Vella ouvre la porte Ã  une relation int
 ime avec soi, avec cette Ã©nergie pure quâ€™est la grÃ¢ce. Accompagnan
 t du regard, mettant en valeur les notes jouÃ©es avec quelque hÃ©sitat
 ion, il donne un sens Ã  ce qui sâ€™exprime dans lâ€™instant, et fait 
 Ã©merger peu Ã  peu lâ€™Ãªtre profond qui sommeille en chacun de nous.
  Une vibration de vie inonde alors le public, saisi par lâ€™authentici
 tÃ© de ce quâ€™il entend.\n\nPour plus d'information, aller sur https:
 //epanews.fr/events/concert-conf-rence-marc-vella-la-cl-d-tre
DTSTART;TZID=Europe/Paris:20170303T203000
DTEND;TZID=Europe/Paris:20170303T223000
CATEGORIES:54
LOCATION:MJC Jean Savine VILLERS LES NANCY
WEBSITE:http://p1.storage.canalblog.com/11/44/241117/112582492.pdf
URL:http://p1.storage.canalblog.com/11/44/241117/112582492.pdf
CONTACT:0643335605
ORGANIZER;CN="Christian CRAPOIX":https://epanews.fr/profile/ChristianC
 RAPOIX
ATTACH;FMTTYPE="image/jpeg":http://storage.ning.com/topology/rest/1.0/
 file/get/1663644852?profile=original
ATTENDEE;ROLE=REQ-PARTICIPANT;PARTSTAT=ACCEPTED;RSVP=TRUE;CN="Christia
 n CRAPOIX":https://epanews.fr/profile/ChristianCRAPOIX
END:VEVENT
END:VCALENDAR
