BEGIN:VCALENDAR
PRODID:NingEventWidget-v1
VERSION:2.0
METHOD:PUBLISH
BEGIN:VTIMEZONE
TZID:Europe/Paris
X-LIC-LOCATION:Europe/Paris
BEGIN:DAYLIGHT
TZOFFSETFROM:+0100
TZOFFSETTO:+0200
TZNAME:CEST
DTSTART:19700329T020000
RRULE:FREQ=YEARLY;BYMONTH=3;BYDAY=-1SU
END:DAYLIGHT
BEGIN:STANDARD
TZOFFSETFROM:+0200
TZOFFSETTO:+0100
TZNAME:CET
DTSTART:19701025T030000
RRULE:FREQ=YEARLY;BYMONTH=10;BYDAY=-1SU
END:STANDARD
END:VTIMEZONE
BEGIN:VEVENT
UID:2485226:Event:1962930
DTSTAMP:20260421T092844Z
SUMMARY:Concernt Jazz - Bossa - Blues dans une yourte Ã  Lauris (84)
DESCRIPTION:SAMEDI 26 JUILLET Ã  20hCONCERT - Nadia et Rodolfo Ã  Laur
 is (84)\nL'association \"Art Mot Nid\" a le plaisir de recevoir Nadia 
 et Rodolfo pour un concert Ã  Lauris, dans une yourte.Â Nous avons Ã©t
 Ã© sous le charme de leur prÃ©sence au Festival RÃªves de CÃ¨dres, câ€
 ™est pourquoi nous souhaitons les inviter Ã  nouveau !!!\nNadia et Rod
 olfo sont une fusion entre la (musica popular brasileira) et la bossa,
  le jazz, le blues....\n\"...Depuis 2 annÃ©es, nous avons entamÃ© ce v
 oyage pour jouer notre musique et faire des rencontres. AprÃ¨s BrÃ©sil
 , Argentine, Espagne, GrÃ¨ce, Allemagne, Hollande, nous sommes en Fran
 ce ou nous avons choisi pour nous installer pendant un temps.\" Notre 
 site http://nadiaerodolfo.wix.com/nadiaerodolfo ou facebook : Nadia e 
 Rodolfo\n- EntrÃ©e 10 â‚¬ - Inscription au concert : asso.artmotnid@gm
 ail.comÂ Â ou 06 64 54 37 46 - Repas partagÃ© Ã  la suite du concert a
 vec ce que chacun aura apportÃ© Ã  boire et Ã  manger dans la convivia
 litÃ©...Ã  bientÃ´t !\n\nPour plus d'information, aller sur https://ep
 anews.fr/events/concernt-jazz-bossa-blues-dans-une-yourte-lauris-84
DTSTART;TZID=Europe/Paris:20140726T200000
DTEND;TZID=Europe/Paris:20140726T230000
CATEGORIES:13, 84, 83
LOCATION:LAURIS 84
WEBSITE:http://nadiaerodolfo.wix.com/nadiaerodolfo
URL:http://nadiaerodolfo.wix.com/nadiaerodolfo
CONTACT:06 64 54 37 46
ORGANIZER:LeÃ¯la et Virginie association Art Mot NId
ATTACH;FMTTYPE="image/jpeg":http://storage.ning.com/topology/rest/1.0/
 file/get/1663167143?profile=original
ATTENDEE;ROLE=REQ-PARTICIPANT;PARTSTAT=ACCEPTED;RSVP=TRUE;CN=Nabila:ht
 tps://epanews.fr/profile/Nabila
ATTENDEE;ROLE=REQ-PARTICIPANT;PARTSTAT=ACCEPTED;RSVP=TRUE;CN=Arshi:htt
 ps://epanews.fr/profile/Arshi
END:VEVENT
END:VCALENDAR
