BEGIN:VCALENDAR
PRODID:NingEventWidget-v1
VERSION:2.0
METHOD:PUBLISH
BEGIN:VTIMEZONE
TZID:Europe/Paris
X-LIC-LOCATION:Europe/Paris
BEGIN:DAYLIGHT
TZOFFSETFROM:+0100
TZOFFSETTO:+0200
TZNAME:CEST
DTSTART:19700329T020000
RRULE:FREQ=YEARLY;BYMONTH=3;BYDAY=-1SU
END:DAYLIGHT
BEGIN:STANDARD
TZOFFSETFROM:+0200
TZOFFSETTO:+0100
TZNAME:CET
DTSTART:19701025T030000
RRULE:FREQ=YEARLY;BYMONTH=10;BYDAY=-1SU
END:STANDARD
END:VTIMEZONE
BEGIN:VEVENT
UID:2485226:Event:589069
DTSTAMP:20260423T024844Z
SUMMARY:comprendre son enfant pour une relation épanouie
DESCRIPTION: \nÀ part d'avoir fait une maitrise en psychologie,les ad
 ultes dont nous sommes sont souvent mal équipés pour devenir de bons
  parents.\néduquer son enfant est la chose la plus difficile à accom
 plir, faute de connaissances sur le sujet , nous fessons ce que nous p
 ouvons au prix parfois de souffrances que nous aurions pu éviter.\nje
  vous propose à travers cette conférence d'en apprendre un peu plus 
 sur ces enfants qui sont les nôtres et que nous comprenons souvent si
  peu\nmerci de confirmer votre venue car la conf peut être annulée\n
 \nPour plus d'information, aller sur https://epanews.fr/events/compren
 dre-son-enfant-pour-une-relation-panouie
DTSTART;TZID=Europe/Paris:20111124T143000
DTEND;TZID=Europe/Paris:20111124T163000
CATEGORIES:31
LOCATION:toulouse
WEBSITE:
URL:
CONTACT:0689604147
ORGANIZER;CN="itier christophe":https://epanews.fr/profile/itierchrist
 ophe
ATTACH;FMTTYPE="image/jpeg":
ATTENDEE;ROLE=REQ-PARTICIPANT;PARTSTAT=ACCEPTED;RSVP=TRUE;CN="itier ch
 ristophe":https://epanews.fr/profile/itierchristophe
END:VEVENT
END:VCALENDAR
