BEGIN:VCALENDAR
PRODID:NingEventWidget-v1
VERSION:2.0
METHOD:PUBLISH
BEGIN:VTIMEZONE
TZID:Europe/Paris
X-LIC-LOCATION:Europe/Paris
BEGIN:DAYLIGHT
TZOFFSETFROM:+0100
TZOFFSETTO:+0200
TZNAME:CEST
DTSTART:19700329T020000
RRULE:FREQ=YEARLY;BYMONTH=3;BYDAY=-1SU
END:DAYLIGHT
BEGIN:STANDARD
TZOFFSETFROM:+0200
TZOFFSETTO:+0100
TZNAME:CET
DTSTART:19701025T030000
RRULE:FREQ=YEARLY;BYMONTH=10;BYDAY=-1SU
END:STANDARD
END:VTIMEZONE
BEGIN:VEVENT
UID:2485226:Event:185247
DTSTAMP:20260424T032353Z
SUMMARY:Comprendre les sentiments
DESCRIPTION:Bonjour,\n \nJe vous propose de nous retrouver autour d'u
 n verre pour échanger sur la numérologie et la khérialogie, des sci
 ences passionnantes qui permettent de comprendre le fonctionnement des
  sentiments amicaux ou amoureux.\n- LA NUMEROLOGIE\n. Analyse du chemi
 n de vie, \nIl nous permet de découvrir le sens de notre existence, 
 ce vers quoi nous devons évoluer.\n \n. Par quelles expèriences dev
 ons nous passer,\n \n. Le nombre de force,\ndomaine dans lequel nous 
 avons de bonnes prédispositions\n \n. Le type de partenaire qui nous
  fait vibrer.\n \n- LA KHERIALOGIE\nLa Khérialogie est une méthode 
 simple et logique, basée sur l'usage des phonétiques expliquant  le
  comportement des individus.\nElle permet de connaître les autres et 
 soi-même ( travail, amour, amitié... ).\n \nArnaud (Rano13), mon fr
 ère jumeau effectuera une analyse personnelle ou du couple pour ceux 
 ou celles qui le désirent.\nA noter que l'analyse est gratuite.\n \n
 Prévoyez du papier et de quoi écrire.\n \nPar contre, la consommati
 on est obligatoire.\n \n \nA bientôt! Patrick\n\n\n\nPour plus d'in
 formation, aller sur https://epanews.fr/events/comprendre-les-sentimen
 ts
DTSTART;TZID=Europe/Paris:20110118T144500
DTEND;TZID=Europe/Paris:20110118T180000
CATEGORIES:13
LOCATION:Marseille
WEBSITE:
URL:
CONTACT:06-30-56-23-72
ORGANIZER;CN=Pat13:https://epanews.fr/profile/DAVIET
ATTACH;FMTTYPE="image/jpeg":http://storage.ning.com/topology/rest/1.0/
 file/get/1662378158?profile=original
ATTENDEE;ROLE=REQ-PARTICIPANT;PARTSTAT=ACCEPTED;RSVP=TRUE;CN=Pat13:htt
 ps://epanews.fr/profile/DAVIET
END:VEVENT
END:VCALENDAR
