BEGIN:VCALENDAR
PRODID:NingEventWidget-v1
VERSION:2.0
METHOD:PUBLISH
BEGIN:VTIMEZONE
TZID:Europe/Paris
X-LIC-LOCATION:Europe/Paris
BEGIN:DAYLIGHT
TZOFFSETFROM:+0100
TZOFFSETTO:+0200
TZNAME:CEST
DTSTART:19700329T020000
RRULE:FREQ=YEARLY;BYMONTH=3;BYDAY=-1SU
END:DAYLIGHT
BEGIN:STANDARD
TZOFFSETFROM:+0200
TZOFFSETTO:+0100
TZNAME:CET
DTSTART:19701025T030000
RRULE:FREQ=YEARLY;BYMONTH=10;BYDAY=-1SU
END:STANDARD
END:VTIMEZONE
BEGIN:VEVENT
UID:2485226:Event:591044
DTSTAMP:20260423T011923Z
SUMMARY:Conférence: \"Communiquer avec le coeur\"
DESCRIPTION:Accepter l'idée qu'au-delà de toutes les expériences he
 ureuses ou malheureuses de la vie se trouve une merveilleuse et inépu
 isable source de paix intérieure et d'amour.\nAller puiser à cette s
 ource pour en faire l'expérience puis apprendre à communiquer à par
 tir de ces trésors: voilà qui apaise le coeur et facilite la communi
 cation avec les autres.\n \nConférence donnée par Shashi Mehra, Pro
 fesseur de Raja Yoga depuis plus de 35 ans.\nVivre à Londres, être m
 ère, grand-mère, femme active et yogi... Voilà les ingrédients qui
  ont fait de Shashi ce qu'elle est aujourd'hui: une femme possédant s
 agesse pratique et naturelle, pleine d'humour et de joie de vivre.\n 
 \nEntrée libre - Bienvenue!\n \nInformations & renseignements : voir
  flyer ci-après\n \n\n\nPour plus d'information, aller sur https://e
 panews.fr/events/communquer-avec-le-coeur
DTSTART;TZID=Europe/Paris:20111128T193000
DTEND;TZID=Europe/Paris:20111128T210000
CATEGORIES:69
LOCATION:Lyon
WEBSITE:http://fr.mappy.com/#d=7,+Place+du+Docteur+Gailleton,+69002,+L
 yon,+Rh%C3%B4ne-Alpes,+France&p=map
URL:http://fr.mappy.com/#d=7,+Place+du+Docteur+Gailleton,+69002,+Lyon,
 +Rh%C3%B4ne-Alpes,+France&p=map
CONTACT:05.78.42.97.20
ORGANIZER:Centre de Raja Yoga & méditation
ATTACH;FMTTYPE="image/jpeg":http://storage.ning.com/topology/rest/1.0/
 file/get/1662490154?profile=original
ATTENDEE;ROLE=REQ-PARTICIPANT;PARTSTAT=ACCEPTED;RSVP=TRUE;CN="Nicolas 
 Crettex":https://epanews.fr/profile/NicolasCrettex
END:VEVENT
END:VCALENDAR
