BEGIN:VCALENDAR
PRODID:NingEventWidget-v1
VERSION:2.0
METHOD:PUBLISH
BEGIN:VTIMEZONE
TZID:Europe/Paris
X-LIC-LOCATION:Europe/Paris
BEGIN:DAYLIGHT
TZOFFSETFROM:+0100
TZOFFSETTO:+0200
TZNAME:CEST
DTSTART:19700329T020000
RRULE:FREQ=YEARLY;BYMONTH=3;BYDAY=-1SU
END:DAYLIGHT
BEGIN:STANDARD
TZOFFSETFROM:+0200
TZOFFSETTO:+0100
TZNAME:CET
DTSTART:19701025T030000
RRULE:FREQ=YEARLY;BYMONTH=10;BYDAY=-1SU
END:STANDARD
END:VTIMEZONE
BEGIN:VEVENT
UID:2485226:Event:1572188
DTSTAMP:20260423T101112Z
SUMMARY:Communiquer avec son Guide intérieur et ses Guides de lumièr
 e
DESCRIPTION:Bonjour,   j'ai le plaisir de vous annoncer que le chanel
  Sophie Guedj viendra animer une conférence puis une journée de stag
 e.Sophie Guedj est channel (canal) et thérapeute depuis plus 17 ans, 
 formée par Marie Lise Labonté.\nSon sérieux, la qualité de son eng
 agement et des indications qu'elle reçoit m'ont incité à vous la pr
 oposer. Ne ratez pas cette occasion car je ne suis pas certain que bea
 ucoup de canal viennent dans notre ville. Le thème sera :Communiquer
  avec son Guide intérieur et ses Guides de lumière\n \nConférence 
 : samedi 16 novembre, Clermont-Ferrand, 19 H 30 à 21 H 30   10 euro
 s\n \nConférence : dimanche 17 novembre, Clermont-Ferrand, 9 H 30 à
   16 H 30  90 euros\n\nLe contenu de la conférence et du stage sont
  précisés dans le document ci-joint.Inscription à chaque événemen
 t obligatoire Si vous êtes intéressé(e), merci de me vous inscrire 
 par messagerie  advitamplus@gmail.comVous trouverez sur internet un e
 xtrait de conférence de 20 minutes qui vous donnera un bon panorama t
 rès clair : http://youtu.be/8V-WhKD6qKc\nsite  http://www.sophiegued
 jmetthey.com/\n\nN'hésitez pas à diffuser cette information auprès 
 de vos relations susceptibles d'être intéressées.   Patrick\n\nPour
  plus d'information, aller sur https://epanews.fr/events/communiquer-a
 vec-son-guide-int-rieur-et-ses-guides-de-lumi-re
DTSTART;TZID=Europe/Paris:20131116T193000
DTEND;TZID=Europe/Paris:20131117T163000
CATEGORIES:63, 69, 03, 43, 15
LOCATION:Clermont Ferrand
WEBSITE:
URL:
CONTACT:voir adresse mail dans le message
ORGANIZER;CN=Patrick:https://epanews.fr/profile/Patrick705
ATTACH;FMTTYPE="image/jpeg":
ATTENDEE;ROLE=REQ-PARTICIPANT;PARTSTAT=ACCEPTED;RSVP=TRUE;CN=Patrick:h
 ttps://epanews.fr/profile/Patrick705
END:VEVENT
END:VCALENDAR
