BEGIN:VCALENDAR
PRODID:NingEventWidget-v1
VERSION:2.0
METHOD:PUBLISH
BEGIN:VTIMEZONE
TZID:Europe/Paris
X-LIC-LOCATION:Europe/Paris
BEGIN:DAYLIGHT
TZOFFSETFROM:+0100
TZOFFSETTO:+0200
TZNAME:CEST
DTSTART:19700329T020000
RRULE:FREQ=YEARLY;BYMONTH=3;BYDAY=-1SU
END:DAYLIGHT
BEGIN:STANDARD
TZOFFSETFROM:+0200
TZOFFSETTO:+0100
TZNAME:CET
DTSTART:19701025T030000
RRULE:FREQ=YEARLY;BYMONTH=10;BYDAY=-1SU
END:STANDARD
END:VTIMEZONE
BEGIN:VEVENT
UID:2485226:Event:1802266
DTSTAMP:20260422T065035Z
SUMMARY:communiquer avec les esprits de la nature Conférence
DESCRIPTION:Les origines des esprits de la nature, comment communiquer
  avec eux, les voir, leurs présences, les entendre? que peuvent ils n
 ous apporter et nous leur apporter...\n\nPour plus d'information, alle
 r sur https://epanews.fr/events/communiquer-avec-les-esprits-de-la-nat
 ure-conf-rence
DTSTART;TZID=Europe/Paris:20140401T190000
DTEND;TZID=Europe/Paris:20140401T210000
CATEGORIES:belgique
LOCATION:chatelet /zen éco
WEBSITE:
URL:
CONTACT:0473 240 530
ORGANIZER:Christophe Dacier et cathy pour les réservations
ATTACH;FMTTYPE="image/jpeg":http://storage.ning.com/topology/rest/1.0/
 file/get/1663070235?profile=original
ATTENDEE;ROLE=REQ-PARTICIPANT;PARTSTAT=ACCEPTED;RSVP=TRUE;CN="Christop
 he Dacier":https://epanews.fr/profile/ChristopheDacier
END:VEVENT
END:VCALENDAR
