BEGIN:VCALENDAR
PRODID:NingEventWidget-v1
VERSION:2.0
METHOD:PUBLISH
BEGIN:VTIMEZONE
TZID:Europe/Paris
X-LIC-LOCATION:Europe/Paris
BEGIN:DAYLIGHT
TZOFFSETFROM:+0100
TZOFFSETTO:+0200
TZNAME:CEST
DTSTART:19700329T020000
RRULE:FREQ=YEARLY;BYMONTH=3;BYDAY=-1SU
END:DAYLIGHT
BEGIN:STANDARD
TZOFFSETFROM:+0200
TZOFFSETTO:+0100
TZNAME:CET
DTSTART:19701025T030000
RRULE:FREQ=YEARLY;BYMONTH=10;BYDAY=-1SU
END:STANDARD
END:VTIMEZONE
BEGIN:VEVENT
UID:2485226:Event:1802431
DTSTAMP:20260421T105238Z
SUMMARY:communiquer avec les esprits de la nature Conférence
DESCRIPTION:communiquer avec les esprits de la nature, s'en faire des 
 amis, visions, guérisons, aide, conseil, élixirs....\n\nPour plus d'
 information, aller sur https://epanews.fr/events/communiquer-avec-les-
 esprits-de-la-nature-conf-rence-1
DTSTART;TZID=Europe/Paris:20140426T150000
DTEND;TZID=Europe/Paris:20140426T170000
CATEGORIES:75
LOCATION:forum 104
WEBSITE:http://cdacier@free.fr
URL:http://cdacier@free.fr
CONTACT:061219141
ORGANIZER:Christophe Dacier / reservation prudente
ATTACH;FMTTYPE="image/jpeg":http://storage.ning.com/topology/rest/1.0/
 file/get/1663074369?profile=original
ATTENDEE;ROLE=REQ-PARTICIPANT;PARTSTAT=ACCEPTED;RSVP=TRUE;CN="Christop
 he Dacier":https://epanews.fr/profile/ChristopheDacier
END:VEVENT
END:VCALENDAR
