BEGIN:VCALENDAR
PRODID:NingEventWidget-v1
VERSION:2.0
METHOD:PUBLISH
BEGIN:VTIMEZONE
TZID:Europe/Paris
X-LIC-LOCATION:Europe/Paris
BEGIN:DAYLIGHT
TZOFFSETFROM:+0100
TZOFFSETTO:+0200
TZNAME:CEST
DTSTART:19700329T020000
RRULE:FREQ=YEARLY;BYMONTH=3;BYDAY=-1SU
END:DAYLIGHT
BEGIN:STANDARD
TZOFFSETFROM:+0200
TZOFFSETTO:+0100
TZNAME:CET
DTSTART:19701025T030000
RRULE:FREQ=YEARLY;BYMONTH=10;BYDAY=-1SU
END:STANDARD
END:VTIMEZONE
BEGIN:VEVENT
UID:2485226:Event:1584873
DTSTAMP:20260423T122724Z
SUMMARY:\"Communication Relationnelle en famille\" avec Marie MAQUAIRE
DESCRIPTION:Venez apprendre Ã  entendre, examiner,nommer et symboliser
  par des rubans, des objets, les relations qui nous posent problÃ¨me.\
 nUn travail sur soi, simple et profondÃ©ment efficace !\nSurtout, siÂ 
 Jâ€™ai du mal Ã  supporter les comportements  de mon entourage (famill
 e, amis...)Â ou encore au travail.\nIls ne sont pas clairs. Je ressens
  de lâ€™agressivitÃ©, du rejet, de la trahisonâ€¦Â  Â  Â  Â  Â  Â ...Â
  jusquâ€™Ã  me rendre parfois malade.\n\nLes \"+\" : une dimension tra
 nspersonnelle, qui permettra souvent de comprendre nos propres soucis 
 Ã  travers l'expÃ©rience partagÃ©e d'un autre participant !\nUn travai
 l d'apprentissage de la communication \"Ã  notre bout de la relation\"
 , doux mais profond... qui s'opÃ¨re sans violence.\nÂ \n\nTarifs : 150
 â‚¬ par personne,\nÂ  Â  Â  Â  Â  Â  Â 220â‚¬ en couple,\nÂ  Â  Â  Â  
 Â  Â Â Â  75â‚¬ par enfant Ã  partir de 7 ans\n\n\nPour plus d'informa
 tion, aller sur https://epanews.fr/events/communication-relationnelle
DTSTART;TZID=Europe/Paris:20131109T090000
DTEND;TZID=Europe/Paris:20131110T170000
CATEGORIES:06
LOCATION:RÃ©sidence HÃ´teliÃ¨re ODALYS
WEBSITE:http://www.mariemaquaire.com
URL:http://www.mariemaquaire.com
CONTACT:06.31.83.80.58
ORGANIZER;CN=Valiall:https://epanews.fr/profile/Valiall
ATTACH;FMTTYPE="image/jpeg":http://storage.ning.com/topology/rest/1.0/
 file/get/1662950836?profile=original
ATTENDEE;ROLE=REQ-PARTICIPANT;PARTSTAT=ACCEPTED;RSVP=TRUE;CN=Valiall:h
 ttps://epanews.fr/profile/Valiall
END:VEVENT
END:VCALENDAR
