BEGIN:VCALENDAR
PRODID:NingEventWidget-v1
VERSION:2.0
METHOD:PUBLISH
BEGIN:VTIMEZONE
TZID:Europe/Paris
X-LIC-LOCATION:Europe/Paris
BEGIN:DAYLIGHT
TZOFFSETFROM:+0100
TZOFFSETTO:+0200
TZNAME:CEST
DTSTART:19700329T020000
RRULE:FREQ=YEARLY;BYMONTH=3;BYDAY=-1SU
END:DAYLIGHT
BEGIN:STANDARD
TZOFFSETFROM:+0200
TZOFFSETTO:+0100
TZNAME:CET
DTSTART:19701025T030000
RRULE:FREQ=YEARLY;BYMONTH=10;BYDAY=-1SU
END:STANDARD
END:VTIMEZONE
BEGIN:VEVENT
UID:2485226:Event:1653785
DTSTAMP:20260423T215802Z
SUMMARY:Communication et résoudre les difficultés scolaires avec les
  enfants
DESCRIPTION:1ère partie : Apaiser les relations familiales\nL’app
 roche Faber et Mazlish « Parler pour que les enfants écoutent, les 
 écouter pour qu’ils parlent » offre des moyens concrets pour mieu
 x gérer les relations avec les enfants au quotidien.\n2ème partie 
 : Résoudre les difficultés scolaires\nApprendre nécessite : moti
 vation, concentration, attention mais aussi des savoir-faire tels q
 ue mémoriser de l’orthographe, un texte, comprendre et restitue
 r clairement son cours ou ses propos, résumer et synthétiser des
  savoirs gérer son stress. Or, personne n’a jamais expliqué à un
  jeune ‘comment faire dans sa tête’ pour travailler, ni à un ens
 eignant comment mettre ses élèves en attitude réceptive et particip
 ative.\nLes neurosciences et la PNL d’Apprentissage, si !\n\nPour p
 lus d'information, aller sur https://epanews.fr/events/communication-e
 t-r-soudre-les-difficult-s-scolaires-avec-les
DTSTART;TZID=Europe/Paris:20131126T183000
DTEND;TZID=Europe/Paris:20131126T203000
CATEGORIES:44
LOCATION:Librairie Jardin d'Eden
WEBSITE:http://www.comchezsoi.fr
URL:http://www.comchezsoi.fr
CONTACT:02 51 82 86 68
ORGANIZER;CN="Sophie Brengard":https://epanews.fr/profile/SophieBrenga
 rd
ATTACH;FMTTYPE="image/jpeg":http://storage.ning.com/topology/rest/1.0/
 file/get/1662980010?profile=original
ATTENDEE;ROLE=REQ-PARTICIPANT;PARTSTAT=ACCEPTED;RSVP=TRUE;CN="Sophie B
 rengard":https://epanews.fr/profile/SophieBrengard
END:VEVENT
END:VCALENDAR
