BEGIN:VCALENDAR
PRODID:NingEventWidget-v1
VERSION:2.0
METHOD:PUBLISH
BEGIN:VTIMEZONE
TZID:Europe/Paris
X-LIC-LOCATION:Europe/Paris
BEGIN:DAYLIGHT
TZOFFSETFROM:+0100
TZOFFSETTO:+0200
TZNAME:CEST
DTSTART:19700329T020000
RRULE:FREQ=YEARLY;BYMONTH=3;BYDAY=-1SU
END:DAYLIGHT
BEGIN:STANDARD
TZOFFSETFROM:+0200
TZOFFSETTO:+0100
TZNAME:CET
DTSTART:19701025T030000
RRULE:FREQ=YEARLY;BYMONTH=10;BYDAY=-1SU
END:STANDARD
END:VTIMEZONE
BEGIN:VEVENT
UID:2485226:Event:2650041
DTSTAMP:20260421T150951Z
SUMMARY:Communication avec vos Guides
DESCRIPTION:Mercredi 1er juin14h30 16h30 (prévoir 17h)Séance de comm
 unication avec Vos Guides.\nAvec leur accord, j'entrerai en communicat
 ion avec vos Guides afin de vous transmettre les messages qu'ils vous 
 destinent.\nLe but de ces messages est toujours de vous aider sur la r
 oute de votre grandissement spirituel. Vos Guides ont à coeur de vous
  voir vous réaliser pleinement et cela passe par votre grandissement 
 intérieur puisque notre extérieur n'est que le reflet de notre inté
 rieur.\n5 personnes\n30 euros \n87 ter rue de Charenton\n75012 Paris\n
 Métro Gare de Lyon ou Ledru Rollin\nInscription au 06 18 13 74 17 ou 
 sur emablue@gmail.com\nJe propose aussi ce travail en séance individu
 elle ce qui permet de rentrer au coeur de vos problématiques et des m
 essages de vos Guides.\n\nPour plus d'information, aller sur https://e
 panews.fr/events/communication-avec-vos-guides-4
DTSTART;TZID=Europe/Paris:20160601T143000
DTEND;TZID=Europe/Paris:20160601T163000
CATEGORIES:75
LOCATION:Paris 12
WEBSITE:http://www.murieljarousseau.com
URL:http://www.murieljarousseau.com
CONTACT:06 18 13 74 17
ORGANIZER;CN=muriel:https://epanews.fr/profile/muriel54
ATTACH;FMTTYPE="image/jpeg":http://storage.ning.com/topology/rest/1.0/
 file/get/1663569224?profile=original
ATTENDEE;ROLE=REQ-PARTICIPANT;PARTSTAT=ACCEPTED;RSVP=TRUE;CN=muriel:ht
 tps://epanews.fr/profile/muriel54
END:VEVENT
END:VCALENDAR
