BEGIN:VCALENDAR
PRODID:NingEventWidget-v1
VERSION:2.0
METHOD:PUBLISH
BEGIN:VTIMEZONE
TZID:Europe/Paris
X-LIC-LOCATION:Europe/Paris
BEGIN:DAYLIGHT
TZOFFSETFROM:+0100
TZOFFSETTO:+0200
TZNAME:CEST
DTSTART:19700329T020000
RRULE:FREQ=YEARLY;BYMONTH=3;BYDAY=-1SU
END:DAYLIGHT
BEGIN:STANDARD
TZOFFSETFROM:+0200
TZOFFSETTO:+0100
TZNAME:CET
DTSTART:19701025T030000
RRULE:FREQ=YEARLY;BYMONTH=10;BYDAY=-1SU
END:STANDARD
END:VTIMEZONE
BEGIN:VEVENT
UID:2485226:Event:2182179
DTSTAMP:20260423T035502Z
SUMMARY:Communication authentiques et dÃ©sirs, intimitÃ© vÃ©ritÃ©.
DESCRIPTION:Je vous invite Mardi soir Ã  me rejoindre sur l'ÃŽle Saint
  Louis pour 3 jeux de communication oÃ¹ on expÃ©rimente ce que c'est d
 e communiquer sans filtres, de faÃ§on vulnÃ©rable, authentique.Â Nous 
 crÃ©ons un environnement encadrÃ© pour permetre une communication fun,
  simple, efficace et qui crÃ©er des sensations !!\nUne amie Ã  moi dit
  : \"Lack of Vulnerability kills.\"Â Un autre qui dit : \"L'abcence de
  dialogue est mortelle.\"Â Mais vraiment l'important c'est la communic
 ation avec de la vulnÃ©rabilitÃ©.\nSe montrer, se dÃ©voiler, dire ce q
 ue l'ont ressens, se laisser voir et ressentir.\nAux vues de l'actuali
 tÃ© qui nous Ã©branle (pour beaucoup), ce genre de soirÃ©e de mÃªme qu
 e le couchsurfing prend tout son sens Ã  mes yeux. Ouvrir sa maison Ã 
  des cadi-inconnu, ou aller dormir chez des personnes qu'on ne connait
  que par leur profil et se rencontrer et s'ouvrir avec curiositÃ©... E
 t en quelques heures, quelques joursÂ \nC'est un Ã©vÃ©nement que je fa
 is de faÃ§on professionnelle, donc je loue une salle pour Ã§a. C'est u
 ne faÃ§on de faire connaÃ®tre la mÃ©ditation orgasmique et la philosop
 hie qui va avec. Cependant c'est tellement dans l'esprit du couchsurfi
 ng et tout les CS qui sont venus ont adorÃ©s et depuis continuent d'ex
 plorer cette 'voie par les relations'. Beaucoup de gens viennent pour 
 la qualitÃ© des rencontres et des conversation qui s'y ouvrent. Et ne 
 font jamais de mÃ©ditation orgasmique ou quoi que ce soit d'autre et c
 'est aussi conÃ§u pour Ã§a.\nC'est une opportunitÃ© d'avoir une rÃ©fle
 xion sur vous-mÃªme grÃ¢ce aux questions, Ã  l'attention et Ã  l'Ã©cou
 te saine et authentique que les autres poseront sur vous.Â Et cela vou
 s surprendra peut-Ãªtre !Â \nCes questions encouragent la vulnÃ©rabili
 tÃ©, et que se passe-t-il quand nous sommes vulnÃ©rables ? Cela crÃ©e 
 de l'intimitÃ©, et c'est ce que beaucoup d'entre nous recherchent plus
  ou moins secrÃ¨tement.Â C'est remarquable comme on peut se sentir con
 nectÃ©s et intimes, mÃªme avec des inconnus, quand on partage ce que l
 'on a en nous.\nVous pouvez jouer au degrÃ© d'intensitÃ© que vous souh
 aitez.Â Vous n'Ãªtes pas contraint Ã  faire quoi que ce soit ou rÃ©pon
 dre Ã  des questions si vous ne le souhaitez pas.Â C'est une invitatio
 n Ã  jouer, Ã  repousser vos limites d'une maniÃ¨re agrÃ©able tout en 
 vous dÃ©couvrant vous-mÃªme.Â J'invite des amis et personnes via meetu
 p, facebook, ovs et courchsurfing donc le nombre de participants ici n
 'est pas reprÃ©sentatif du nombre total ;)\nL'entrÃ©e est Ã  10 eurosÂ
  \nTurn ON : 20h00Â On ferme les portes Ã  20h10 pour commencer.Â Nous
  finiront Ã 21h30\n\nPour plus d'information, aller sur https://epanew
 s.fr/events/communication-authentiques-et-d-sirs-intimit-v-rit
DTSTART;TZID=Europe/Paris:20150113T200000
DTEND;TZID=Europe/Paris:20150113T213000
CATEGORIES:75
LOCATION:Le curieux Salon
WEBSITE:http://www.meditationorgasmique.com
URL:http://www.meditationorgasmique.com
CONTACT:0664032736
ORGANIZER;CN=EmaOM:https://epanews.fr/profile/EmaOM
ATTACH;FMTTYPE="image/jpeg":http://storage.ning.com/topology/rest/1.0/
 file/get/1663301719?profile=original
ATTENDEE;ROLE=REQ-PARTICIPANT;PARTSTAT=ACCEPTED;RSVP=TRUE;CN=EmaOM:htt
 ps://epanews.fr/profile/EmaOM
END:VEVENT
END:VCALENDAR
