BEGIN:VCALENDAR
PRODID:NingEventWidget-v1
VERSION:2.0
METHOD:PUBLISH
BEGIN:VTIMEZONE
TZID:Europe/Paris
X-LIC-LOCATION:Europe/Paris
BEGIN:DAYLIGHT
TZOFFSETFROM:+0100
TZOFFSETTO:+0200
TZNAME:CEST
DTSTART:19700329T020000
RRULE:FREQ=YEARLY;BYMONTH=3;BYDAY=-1SU
END:DAYLIGHT
BEGIN:STANDARD
TZOFFSETFROM:+0200
TZOFFSETTO:+0100
TZNAME:CET
DTSTART:19701025T030000
RRULE:FREQ=YEARLY;BYMONTH=10;BYDAY=-1SU
END:STANDARD
END:VTIMEZONE
BEGIN:VEVENT
UID:2485226:Event:1148123
DTSTAMP:20260421T211110Z
SUMMARY:\"Comment utiliser nos deux cerveaux pour améliorer sa santé
 \"
DESCRIPTION:Cette journée vous offre l'opportunité de découvrir, ex
 périmenter et intégrer, si vous le souhaitez, des moyens d'agir pour
  améliorer votre santé en programmant ici et maintenant le futur qui
  vous va bien, dans le respect de qui vous êtes. Accompagné dans vos
  processus tout en suivant votre propre intuition, vous choisirez de m
 odifier ce que vous voulez pour aller vers ce que vous aurez décidé.
  Un pré-requis: le désir de  vivre de façon autonome et responsabl
 e! Pour des informations détaillées, vous êtes invité à vous rend
 re sur le site de Françoise http://www.francoisebach.fr\n\nPour plus
  d'information, aller sur https://epanews.fr/events/comment-utiliser-n
 os-deux-cerveaux-pour-am-liorer-sa-sant
DTSTART;TZID=Europe/Paris:20130209T093000
DTEND;TZID=Europe/Paris:20130209T180000
CATEGORIES:83, 13, 06, 04
LOCATION:association La Clé de soi
WEBSITE:http://www.lacledesoi.fr.sitew.com
URL:http://www.lacledesoi.fr.sitew.com
CONTACT:0494350062
ORGANIZER;CN="Françoise Elisabeth":https://epanews.fr/profile/Francoi
 seElisabeth
ATTACH;FMTTYPE="image/jpeg":http://storage.ning.com/topology/rest/1.0/
 file/get/1662751624?profile=original
ATTENDEE;ROLE=REQ-PARTICIPANT;PARTSTAT=ACCEPTED;RSVP=TRUE;CN="Françoi
 se Elisabeth":https://epanews.fr/profile/FrancoiseElisabeth
END:VEVENT
END:VCALENDAR
