BEGIN:VCALENDAR
PRODID:NingEventWidget-v1
VERSION:2.0
METHOD:PUBLISH
BEGIN:VTIMEZONE
TZID:Europe/Paris
X-LIC-LOCATION:Europe/Paris
BEGIN:DAYLIGHT
TZOFFSETFROM:+0100
TZOFFSETTO:+0200
TZNAME:CEST
DTSTART:19700329T020000
RRULE:FREQ=YEARLY;BYMONTH=3;BYDAY=-1SU
END:DAYLIGHT
BEGIN:STANDARD
TZOFFSETFROM:+0200
TZOFFSETTO:+0100
TZNAME:CET
DTSTART:19701025T030000
RRULE:FREQ=YEARLY;BYMONTH=10;BYDAY=-1SU
END:STANDARD
END:VTIMEZONE
BEGIN:VEVENT
UID:2485226:Event:2412603
DTSTAMP:20260422T152511Z
SUMMARY:Comment surmonter vos peurs
DESCRIPTION:\nCOMMENT SURMONTER VOS Â PEURS\nÂ Selon l'enseignement de
  Lise Bourbeau Â \nAtelier Â Ã Â  EaubonneÂ (95600)\nMardi 19 Avril 20
 16 Â  deÂ Â 10 h Â Ã  Â 17 h 30Â \nCet atelier Ã  pour objectif de crÃ
 ©er des dÃ©clicsÂ  par la prise de conscience que derriÃ¨re chaque peu
 r se cache un besoin. AlorsÂ  osons ce nouveau dÃ©part. AfinÂ  de vous
  aider Ã Â  retrouver la paix intÃ©rieure, venez dÃ©couvrir parÂ  des 
 moyens concrets, comment dÃ©passer vos peursÂ  pourÂ  retrouver votre 
 libertÃ© dâ€™agirÂ  et allerÂ  vers le meilleur de vous-mÃªme.\n- Comp
 rendre le mode de fonctionnement de nos peurs\n- L'acceptation de nos 
 peurs, permet de travailler avec elle\n- DÃ©couvrir ce qui se cache de
 rriÃ¨re vos peurs\n- DÃ©velopper votre capacitÃ© Ã  dÃ©passer vos peur
 s\nÂ  Cet atelierÂ  se dÃ©roulera dans un esprit de partage,Â d'Ã©cout
 e et de confidentialitÃ©.Â \nRenseignement et rÃ©servationÂ : 06 87 62
  31- 18 Â Â \nmartine.gagnon@hotmail.frÂ  Â  Â  Â  Â ateliers-paqueret
 tes.comÂ \nAtelierÂ dÃ©couverte 50â‚¬Â \n \nÂ \n\nPour plus d'informat
 ion, aller sur https://epanews.fr/events/comment-surmonter-vos-peurs
DTSTART;TZID=Europe/Paris:20160419T000000
DTEND;TZID=Europe/Paris:20160419T235900
CATEGORIES:95
LOCATION:ESPACE PAQUERETTES  A EAUBONNE ( 95600)
WEBSITE:http://atelierspaquerettes.com
URL:http://atelierspaquerettes.com
CONTACT:06 87 62 31 18
ORGANIZER;CN="Martine gagnon":https://epanews.fr/profile/Martinegagnon
ATTACH;FMTTYPE="image/jpeg":http://storage.ning.com/topology/rest/1.0/
 file/get/1663446521?profile=original
ATTENDEE;ROLE=REQ-PARTICIPANT;PARTSTAT=ACCEPTED;RSVP=TRUE;CN="Martine 
 gagnon":https://epanews.fr/profile/Martinegagnon
END:VEVENT
END:VCALENDAR
