BEGIN:VCALENDAR
PRODID:NingEventWidget-v1
VERSION:2.0
METHOD:PUBLISH
BEGIN:VTIMEZONE
TZID:Europe/Paris
X-LIC-LOCATION:Europe/Paris
BEGIN:DAYLIGHT
TZOFFSETFROM:+0100
TZOFFSETTO:+0200
TZNAME:CEST
DTSTART:19700329T020000
RRULE:FREQ=YEARLY;BYMONTH=3;BYDAY=-1SU
END:DAYLIGHT
BEGIN:STANDARD
TZOFFSETFROM:+0200
TZOFFSETTO:+0100
TZNAME:CET
DTSTART:19701025T030000
RRULE:FREQ=YEARLY;BYMONTH=10;BYDAY=-1SU
END:STANDARD
END:VTIMEZONE
BEGIN:VEVENT
UID:2485226:Event:2868947
DTSTAMP:20260421T221639Z
SUMMARY:Comment surmonter vos peurs
DESCRIPTION:Comment surmonter vos peurs\nAnimÃ©e par :Â Martine GAGNON
 \nDiplÃ´mÃ©eÂ Â de lâ€™INAÂ  Â (Institut des neurosciences appliquÃ©es
  de David Lefrancois)et de lâ€™EcoleÂ Â E.T.C Â fondÃ©e par Â Lise Bou
 rbeauÂ et praticienne en massage californien et ayurvÃ©dique.\nDateÂ Â
  Â Â Â  Â  Â  Â Â Â Â Â :Â Â Â Mercredi 8 Novembre 2017Â \nHeureÂ Â Â 
 Â  Â Â Â Â Â Â Â :Â Â Â 14 h Ã Â 17Â h 30\nLieuÂ Â Â Â Â Â  Â  Â Â Â Â
  Â Â :Â Â Â 95600Â Â Eaubonne. (10 km de Paris)\nRÃ©servationÂ Â Â :Â 
  Â 06 87 62 31 18Â Â Â  Â  -Â Â  Â Â e-mail :Â martine.gagnon@hotmail.
 frÂ \nÂ \nAvez dÃ©jÃ  imaginÃ© tout ce que vous rÃ©aliseriez si vous d
 Ã©passiez vos peursÂ ?\nSouvent, la peur nous freine dans nos projets 
 et notre Ã©volution. La peur sâ€™est glissÃ©e dans nos vies sans que l
 â€™on y prenne garde, revenons aÌ€ une vision plus objective et rÃ©cup
 Ã©rons du pouvoir sur nos propres vies.\nVous arrive-t-ilÂ  de vous se
 ntirÂ paralyser par la peurÂ ?\nVous arrive-t-ilÂ  de vous en vouloir 
 dâ€™avoir peurÂ ?\nVous arrive-t-ilÂ  de ne pas oser Ãªtre vous-mÃªmeÂ
  par peur deÂ  dÃ©plaire ?\nCet atelier vise Ã  vous faire dÃ©couvrirÂ
   des moyens concretsÂ Â pour surmonter vos peurs et pour concrÃ©tiser
  ce que vous dÃ©sirez dans la vie.\nVous aimeriez dÃ©couvrir les peurs
  inconscientes qui sont Ã  l'origine des blocages dans votre vie perso
 nnelle. Cet atelier est lâ€™occasion de travailler sur une peur consci
 ente dont il vous est difficile de vous libÃ©rerÂ \nEntreprenez ce voy
 age libÃ©rateur et repartez munis de moyens uniques pour gÃ©rer vos pe
 urs.\nSi tout cela rÃ©sonne en vous, cet atelier est fait pour vous.\n
 Participation : Â  25â‚¬\n\nPour plus d'information, aller sur https:/
 /epanews.fr/events/comment-surmonter-vos-peurs-1
DTSTART;TZID=Europe/Paris:20171108T140000
DTEND;TZID=Europe/Paris:20171108T173000
CATEGORIES:95
LOCATION:ATELIER A EAUBONNE (95600)
WEBSITE:http://coaching-confiance.com/
URL:http://coaching-confiance.com/
CONTACT:0687623118
ORGANIZER:
ATTACH;FMTTYPE="image/jpeg":http://storage.ning.com/topology/rest/1.0/
 file/get/1663688382?profile=original
ATTENDEE;ROLE=REQ-PARTICIPANT;PARTSTAT=ACCEPTED;RSVP=TRUE;CN="Martine 
 gagnon":https://epanews.fr/profile/Martinegagnon
END:VEVENT
END:VCALENDAR
