BEGIN:VCALENDAR
PRODID:NingEventWidget-v1
VERSION:2.0
METHOD:PUBLISH
BEGIN:VTIMEZONE
TZID:Europe/Paris
X-LIC-LOCATION:Europe/Paris
BEGIN:DAYLIGHT
TZOFFSETFROM:+0100
TZOFFSETTO:+0200
TZNAME:CEST
DTSTART:19700329T020000
RRULE:FREQ=YEARLY;BYMONTH=3;BYDAY=-1SU
END:DAYLIGHT
BEGIN:STANDARD
TZOFFSETFROM:+0200
TZOFFSETTO:+0100
TZNAME:CET
DTSTART:19701025T030000
RRULE:FREQ=YEARLY;BYMONTH=10;BYDAY=-1SU
END:STANDARD
END:VTIMEZONE
BEGIN:VEVENT
UID:2485226:Event:2807978
DTSTAMP:20260422T105111Z
SUMMARY:Comment se reconnecter Ã  soi mÃªme par le dialogue avec l'uni
 vers
DESCRIPTION:Inscription obligatoire auprÃ¨s de Source du bonheur au 06
  77 16 31 11Â Participation 100â‚¬Atelier animÃ© par Jean-FrÃ©dÃ©ric B
 oullier, confÃ©rencier et coach de vie, auteur de \" l'Envol du pardon
 \", \"Un prÃ©sent extraordinaire\", et \" Comment se reconcilier avec 
 soi-mÃªme\"Programme :09h30 : Rappel confÃ©rence : Comment se rÃ©conci
 lier avec soi-mÃªmeÂ 09h45 : PrÃ©sentation des mÃ©thodes de travail- C
 omment travailler et apprendre efficacement (acquisition des compÃ©ten
 ces, cahier de progression)- Bien se connaÃ®tre: chemin de vie, aligne
 ment, inclusion calculs12h 15/13h30 : Pause repasÂ 13h30 Ã  15h30 : Ex
 ercices- Apprentissage du temps, rappel des rÃ¨gles et ordonnances- Au
 to â€“observation, instant prÃ©sent, comment reconnaitre son ego, les 
 12 rÃ¨gles, les douze souhaits- Apprentissage de visualisation15h30/ 1
 5h45 : PauseÂ 15h45 / 18h00 : Suite exercices- Classement des buts Ã  
 courts moyens et longs termes- Ã‰tablissement de la feuille de route- 
 formulations- LÃ¢cher prise et technique de transmutation de lâ€™Ã©mot
 ionQuestions rÃ©ponsesÂ \"ÃŠtre ce que lâ€™on fait et faire ce que lâ€
 ™on est .\"\n\nPour plus d'information, aller sur https://epanews.fr/e
 vents/comment-se-reconnecter-soi-m-me-par-le-dialogue-avec-l-univers
DTSTART;TZID=Europe/Paris:20170423T093000
DTEND;TZID=Europe/Paris:20170423T180000
CATEGORIES:34
LOCATION:montpellier centre
WEBSITE:http://www.sourcedubonheur.fr
URL:http://www.sourcedubonheur.fr
CONTACT:0677163111
ORGANIZER;CN=sb34:https://epanews.fr/profile/sb34
ATTACH;FMTTYPE="image/jpeg":http://storage.ning.com/topology/rest/1.0/
 file/get/1663651482?profile=original
ATTENDEE;ROLE=REQ-PARTICIPANT;PARTSTAT=ACCEPTED;RSVP=TRUE;CN=sb34:http
 s://epanews.fr/profile/sb34
END:VEVENT
END:VCALENDAR
